BEGIN:VCALENDAR
VERSION:2.0
PRODID:-//Galerie Depardieu - ECPv6.15.20//NONSGML v1.0//EN
CALSCALE:GREGORIAN
METHOD:PUBLISH
X-WR-CALNAME:Galerie Depardieu
X-ORIGINAL-URL:https://www.galerie-depardieu.com
X-WR-CALDESC:Évènements pour Galerie Depardieu
REFRESH-INTERVAL;VALUE=DURATION:PT1H
X-Robots-Tag:noindex
X-PUBLISHED-TTL:PT1H
BEGIN:VTIMEZONE
TZID:Europe/Paris
BEGIN:DAYLIGHT
TZOFFSETFROM:+0100
TZOFFSETTO:+0200
TZNAME:CEST
DTSTART:20240331T010000
END:DAYLIGHT
BEGIN:STANDARD
TZOFFSETFROM:+0200
TZOFFSETTO:+0100
TZNAME:CET
DTSTART:20241027T010000
END:STANDARD
BEGIN:DAYLIGHT
TZOFFSETFROM:+0100
TZOFFSETTO:+0200
TZNAME:CEST
DTSTART:20250330T010000
END:DAYLIGHT
BEGIN:STANDARD
TZOFFSETFROM:+0200
TZOFFSETTO:+0100
TZNAME:CET
DTSTART:20251026T010000
END:STANDARD
BEGIN:DAYLIGHT
TZOFFSETFROM:+0100
TZOFFSETTO:+0200
TZNAME:CEST
DTSTART:20260329T010000
END:DAYLIGHT
BEGIN:STANDARD
TZOFFSETFROM:+0200
TZOFFSETTO:+0100
TZNAME:CET
DTSTART:20261025T010000
END:STANDARD
END:VTIMEZONE
BEGIN:VEVENT
DTSTART;TZID=Europe/Paris:20250517T201500
DTEND;TZID=Europe/Paris:20250517T223000
DTSTAMP:20260424T174134
CREATED:20250506T151401Z
LAST-MODIFIED:20250506T151401Z
UID:5349-1747512900-1747521000@www.galerie-depardieu.com
SUMMARY:JazzAccords Quartet
DESCRIPTION:Samedi 17 Mai 2025 à 20h15\nJazzAccords Quartet \nJean Louis Bouyssou à la guitare\, \nCharly Laz au piano\, \nPatrick Barbato à la contrebasse\,\nAndré Guiglion à la batterie. \n \nJazzAccords réunit quatre musiciens professionnels issus d’horizons différents mais avec une passion commune : Le JAZZ\nJazz standard\, bossa et latin Jazz\, également des adaptations de musiques de films.\nDes musiciens expérimentés qui apportent leur touche de modernité à ce répertoire connu du grand public au travers  des compositeurs que sont Cole Porter \, Georges Gerswwin \, Antonio Carlos Jobim \, Astor Piazzola \, Michel Legrand\, Philippe Sarde \, etc… \nDe belles scènes pour JazzAccords cette dernière saison tel  Festival de Jazz de Saint Raphaël\, Jazz au château à Cagnes sur mer\, château de Nice … \nAprès avoir fait salle comble lors de leur concert du 8 Mars\, le quartet JAZZACCORDS sera de nouveau dans ce lieu mythique Samedi 17 Mai.\n \n \n  \nEntrée 15 € / adhérent : 12 € / Tarif étudiant 10 €\nRéservation/billetterie : https://www.billetweb.fr/jazzaccords-quartet2
URL:https://www.galerie-depardieu.com/event/jazzaccords-quartet-2/
LOCATION:Galerie Depardieu\, 6 rue du docteur Jacques Guidoni\, Nice\, 06000\, France
CATEGORIES:Agenda,Concert
ORGANIZER;CN="Association ARTEP":MAILTO:artep.association@gmail.com
END:VEVENT
BEGIN:VEVENT
DTSTART;TZID=Europe/Paris:20250523T201500
DTEND;TZID=Europe/Paris:20250523T223000
DTSTAMP:20260424T174134
CREATED:20250506T151644Z
LAST-MODIFIED:20250516T170732Z
UID:5351-1748031300-1748039400@www.galerie-depardieu.com
SUMMARY:Daya's Travel Songs Trio
DESCRIPTION:Vendredi 23 Mai 2025 à 20h15\nDaya’s Travel Songs Trio \nDayana voix\, \nFred D’Oelsnitz piano\, \nFabrice Bistoni contrebasse. \n \nLes prestigieux Pianiste et Contrebassiste\, Fred D’Oelsnitz et Fabrice Bistoni\, accompagnent avec leur talent confirmé la Vocaliste\, Dayana\, qui interprète en 8 langues un répertoire Jazz\, Bossa\, Soul et Worldmusic d’une voix riche\, émouvante\, à fleur de peau.\nSon dernier CD\, a été arrangé par Claud eTedesco « Dayana Tel est mon chemin » 8 chansons Internationales\, disponible sur toutes les plateformes.\n*Daya’s Travel Songs Trio* installe une ambiance unifiante et envoûtante\, où la musique réunit les cœurs\, les pays \,un voyage festif emprunt de romances… \nhttps://www.facebook.com/dayana.dyna \nEntrée 15 € / adhérent : 12 € / Tarif étudiant 10 €\nRéservation/billetterie : https://www.billetweb.fr/dayas-travel-songs-trio
URL:https://www.galerie-depardieu.com/event/dayas-travel-songs-trio/
LOCATION:Galerie Depardieu\, 6 rue du docteur Jacques Guidoni\, Nice\, 06000\, France
CATEGORIES:Agenda,Concert
ORGANIZER;CN="Association ARTEP":MAILTO:artep.association@gmail.com
END:VEVENT
BEGIN:VEVENT
DTSTART;TZID=Europe/Paris:20250524T201500
DTEND;TZID=Europe/Paris:20250524T223000
DTSTAMP:20260424T174134
CREATED:20250506T152037Z
LAST-MODIFIED:20250506T152037Z
UID:5354-1748117700-1748125800@www.galerie-depardieu.com
SUMMARY:Latino Social Quartet
DESCRIPTION:Samedi 24 Mai 2025 à 20h15\nLatino Social Quartet \nGabriela Bay : Chant\, Percussions\nJean-pierre Babarit : Guitare\nEmmanuel Marsy : Guitare Basse\nYahn Delgrange : Batterie\, percussions \nVous propose un voyage musical dans toute l’Amérique du sud :\nBrésil\, Cuba\, Argentine\, Mexique … \n \nEntrée 15 € / adhérent : 12 € / Tarif étudiant 10 €\nRéservation/billetterie : https://www.billetweb.fr/latino-social-quartet
URL:https://www.galerie-depardieu.com/event/latino-social-quartet/
LOCATION:Galerie Depardieu\, 6 rue du docteur Jacques Guidoni\, Nice\, 06000\, France
CATEGORIES:Agenda,Concert
ORGANIZER;CN="Association ARTEP":MAILTO:artep.association@gmail.com
END:VEVENT
BEGIN:VEVENT
DTSTART;TZID=Europe/Paris:20250530T201500
DTEND;TZID=Europe/Paris:20250530T223000
DTSTAMP:20260424T174134
CREATED:20250506T152320Z
LAST-MODIFIED:20250506T152320Z
UID:5356-1748636100-1748644200@www.galerie-depardieu.com
SUMMARY:BehiaSwing and Latin Jazz
DESCRIPTION:Vendredi 30 Mai 2025 à 20h15\nBehiaSwing and Latin Jazz \nBehia chant\nPatrick Barbato contrebasse\nJean Baptiste Bolazzi piano\nAndré Guiglion batterie \nSes enregistrements (4 CD réalisés) ainsi que ses concerts sur de prestigieuses scènes françaises et étrangères ont été accueillis élogieusement par les chroniqueurs de la presse jazz. Voix chaude\, bien timbrée se pliant à toutes les nuances\, indéniable sens du swing\, Behia détaille avec sensibilité les classiques\, … (Jazz Magazine)\, bien secondée par un solide trio. \nPour vibrer au rythme des plus grands moments du jazz.\nUn rendez-vous incontournable pour les amateurs de jazz et de rythmes latins. \n \n \nhttps://www.behiajazz.com/ \nEntrée 15 € / adhérent : 12 € / Tarif étudiant 10 €\nRéservation/billetterie : https://www.billetweb.fr/behiaswing-and-latin-jazz
URL:https://www.galerie-depardieu.com/event/behiaswing-and-latin-jazz/
LOCATION:Galerie Depardieu\, 6 rue du docteur Jacques Guidoni\, Nice\, 06000\, France
CATEGORIES:Agenda,Concert
ORGANIZER;CN="Association ARTEP":MAILTO:artep.association@gmail.com
END:VEVENT
END:VCALENDAR