BEGIN:VCALENDAR
VERSION:2.0
PRODID:-//Galerie Depardieu - ECPv6.15.20//NONSGML v1.0//EN
CALSCALE:GREGORIAN
METHOD:PUBLISH
X-WR-CALNAME:Galerie Depardieu
X-ORIGINAL-URL:https://www.galerie-depardieu.com
X-WR-CALDESC:Évènements pour Galerie Depardieu
REFRESH-INTERVAL;VALUE=DURATION:PT1H
X-Robots-Tag:noindex
X-PUBLISHED-TTL:PT1H
BEGIN:VTIMEZONE
TZID:Europe/Paris
BEGIN:DAYLIGHT
TZOFFSETFROM:+0100
TZOFFSETTO:+0200
TZNAME:CEST
DTSTART:20240331T010000
END:DAYLIGHT
BEGIN:STANDARD
TZOFFSETFROM:+0200
TZOFFSETTO:+0100
TZNAME:CET
DTSTART:20241027T010000
END:STANDARD
BEGIN:DAYLIGHT
TZOFFSETFROM:+0100
TZOFFSETTO:+0200
TZNAME:CEST
DTSTART:20250330T010000
END:DAYLIGHT
BEGIN:STANDARD
TZOFFSETFROM:+0200
TZOFFSETTO:+0100
TZNAME:CET
DTSTART:20251026T010000
END:STANDARD
BEGIN:DAYLIGHT
TZOFFSETFROM:+0100
TZOFFSETTO:+0200
TZNAME:CEST
DTSTART:20260329T010000
END:DAYLIGHT
BEGIN:STANDARD
TZOFFSETFROM:+0200
TZOFFSETTO:+0100
TZNAME:CET
DTSTART:20261025T010000
END:STANDARD
END:VTIMEZONE
BEGIN:VEVENT
DTSTART;TZID=Europe/Paris:20250308T201500
DTEND;TZID=Europe/Paris:20250308T223000
DTSTAMP:20260424T204538
CREATED:20250303T165938Z
LAST-MODIFIED:20250303T165938Z
UID:5263-1741464900-1741473000@www.galerie-depardieu.com
SUMMARY:JazzAccords Quartet
DESCRIPTION:Samedi 8 Mars 2025 à 20h15\nJazzAccords Quartet \nJean Louis Bouyssou à la guitare\, \nCharly Laz au piano\, \nPatrick Barbato à la contrebasse\,\nAndré Guiglion à la batterie. \n \nJazzAccords réunit quatre musiciens professionnels issus d’horizons différents mais avec une passion commune : Le JAZZ\nJazz standard\, bossa et latin Jazz\, également des adaptations de musiques de films.\nDes musiciens expérimentés qui apportent leur touche de modernité à ce répertoire connu du grand public au travers  des compositeurs que sont Cole Porter \, Georges Gerswwin \, Antonio Carlos Jobim \, Astor Piazzola \, Michel Legrand\, Philippe Sarde \, etc… \nDe belles scènes pour JazzAccords cette dernière saison tel  Festival de Jazz de Saint Raphaël\, Jazz au château à Cagnes sur mer\, château de Nice … \n \n \nEntrée 15 € / adhérent : 12 € / Tarif étudiant 10 €\nRéservation/billetterie : https://www.billetweb.fr/jazzaccords-quartet1
URL:https://www.galerie-depardieu.com/event/jazzaccords-quartet/
LOCATION:Galerie Depardieu\, 6 rue du docteur Jacques Guidoni\, Nice\, 06000\, France
CATEGORIES:Agenda,Concert
ORGANIZER;CN="Association ARTEP":MAILTO:artep.association@gmail.com
END:VEVENT
BEGIN:VEVENT
DTSTART;TZID=Europe/Paris:20250314T201500
DTEND;TZID=Europe/Paris:20250314T223000
DTSTAMP:20260424T204538
CREATED:20250303T170624Z
LAST-MODIFIED:20250303T170624Z
UID:5269-1741983300-1741991400@www.galerie-depardieu.com
SUMMARY:Café de l'Est / Trio jazz
DESCRIPTION:Vendredi 14 Mars 2025 à 20h15\nCafé de l’Est\nTrio jazz \nJean-Marc Fauchier à la guitare\, \nPatrick Singery à l’harmonica chromatique\, \nGilles Baud à la contrebasse. \n \nC’est au printemps 2016 que Jean Marc et Patrick se rencontrent et fondent le Duo Café de l’Est\, une formation originale mêlant guitare et harmonica. L’aventure commence. Ils travaillent sur d’incontournables standards de jazz\, swing\, bossa\, chansons françaises et se produisent sur scène et dans de nombreux établissements de la région. En 2018 le duo se transforme en trio avec Gilles Baud à la contrebasse. \n \nJean-Marc Fauchier\nIl découvre la guitare et s´intéresse au rock\, au rock progressif et au jazz-rock. Féru de musique\, il s’ouvre plus tard au jazz manouche\, au swing\, au jazz\, à la bossa et à l´improvisation.\nEn 2012\, Jean Marc fonde Café de l’Est. Le trio revisite un répertoire de standards et se produit sur différentes scènes de la région. \nPatrick Singery\nAprès avoir longtemps joué de la basse dans divers groupes (jazz-rock\, jazz)\, Patrick se tourne vers l’harmonica chromatique en entendant Toots Thielemans\, Olivier Ker Ourio et d’autres. Depuis lors il tente de découvrir quelques-unes des infinies possibilités que recèle cet instrument pour partager au fil des rencontres quelques-unes des beautés qu’il offre. \nGilles Baud\nIl baigne dans la musique depuis la plus tendre enfance. Il pratique la guitare classique puis la basse électrique dans différents styles musicaux (rock progressif\, variété\, musette\, hard rock\, jazz…). Il découvre la contrebasse jazz il y a quelques années et lui voue une véritable passion. \n  \nEntrée 15 € / adhérent : 12 € / Tarif étudiant 10 €\nRéservation/billetterie : https://www.billetweb.fr/cafe-de-lest2
URL:https://www.galerie-depardieu.com/event/cafe-de-lest-trio-jazz/
LOCATION:Galerie Depardieu\, 6 rue du docteur Jacques Guidoni\, Nice\, 06000\, France
CATEGORIES:Agenda,Concert
ORGANIZER;CN="Association ARTEP":MAILTO:artep.association@gmail.com
END:VEVENT
BEGIN:VEVENT
DTSTART;TZID=Europe/Paris:20250322T201500
DTEND;TZID=Europe/Paris:20250322T223000
DTSTAMP:20260424T204538
CREATED:20250311T192649Z
LAST-MODIFIED:20250311T192649Z
UID:5279-1742674500-1742682600@www.galerie-depardieu.com
SUMMARY:Voyage musical autour du monde
DESCRIPTION:Samedi 22 Mars 2025 à 20h15\nVoyage musical autour du monde\nRené Sopa 4tet \nRené Sopa : Accordéon\nRico Allegretti : Percussions\nJean Pierre Babarit : Guitare\nAndré Guiglion : Batterie \n \nUn voyage en musique autour du monde avec des compositions de René Sopa en passant par Hermeto Pascoal et Astor Piazzolla avec les bongos et congas sud-américain de Rico Allegretti\nUne belle soirée avec ce quartet éclectique aux sonorités colorées. \n \n \nEntrée 15 € / adhérent : 12 € / Tarif étudiant 10 €\nRéservation/billetterie :\nhttps://www.billetweb.fr/voyage-autour-du-monde2
URL:https://www.galerie-depardieu.com/event/voyage-musical-autour-du-monde/
LOCATION:Galerie Depardieu\, 6 rue du docteur Jacques Guidoni\, Nice\, 06000\, France
CATEGORIES:Agenda,Concert
ORGANIZER;CN="Association ARTEP":MAILTO:artep.association@gmail.com
END:VEVENT
END:VCALENDAR