BEGIN:VCALENDAR
VERSION:2.0
PRODID:-//Galerie Depardieu - ECPv6.15.20//NONSGML v1.0//EN
CALSCALE:GREGORIAN
METHOD:PUBLISH
X-ORIGINAL-URL:https://www.galerie-depardieu.com
X-WR-CALDESC:Évènements pour Galerie Depardieu
REFRESH-INTERVAL;VALUE=DURATION:PT1H
X-Robots-Tag:noindex
X-PUBLISHED-TTL:PT1H
BEGIN:VTIMEZONE
TZID:Europe/Paris
BEGIN:DAYLIGHT
TZOFFSETFROM:+0100
TZOFFSETTO:+0200
TZNAME:CEST
DTSTART:20220327T010000
END:DAYLIGHT
BEGIN:STANDARD
TZOFFSETFROM:+0200
TZOFFSETTO:+0100
TZNAME:CET
DTSTART:20221030T010000
END:STANDARD
BEGIN:DAYLIGHT
TZOFFSETFROM:+0100
TZOFFSETTO:+0200
TZNAME:CEST
DTSTART:20230326T010000
END:DAYLIGHT
BEGIN:STANDARD
TZOFFSETFROM:+0200
TZOFFSETTO:+0100
TZNAME:CET
DTSTART:20231029T010000
END:STANDARD
BEGIN:DAYLIGHT
TZOFFSETFROM:+0100
TZOFFSETTO:+0200
TZNAME:CEST
DTSTART:20240331T010000
END:DAYLIGHT
BEGIN:STANDARD
TZOFFSETFROM:+0200
TZOFFSETTO:+0100
TZNAME:CET
DTSTART:20241027T010000
END:STANDARD
END:VTIMEZONE
BEGIN:VEVENT
DTSTART;TZID=Europe/Paris:20230609T201500
DTEND;TZID=Europe/Paris:20230609T223000
DTSTAMP:20260426T051137
CREATED:20230525T182349Z
LAST-MODIFIED:20230525T182349Z
UID:4286-1686341700-1686349800@www.galerie-depardieu.com
SUMMARY:Open Jam Trio
DESCRIPTION:Vendredi 9 Juin 2023 à 20h15\nOpen Jam Trio \nMohamed Beddiar\, piano\, compositions.\nFabrice Peritore\, Percussions/batterie\, arrangements.\nAlain Calzoni\, Contrebasse\, arrangements. \n \n« …Open Jam Trio est la rencontre explosive entre trois musiciens renommés de la région.\nLe Trio revisite des Standards Jazz et Latin Jazz\, ainsi que des compositions. \nEntre sensibilités nuancées\, rebondissements et interactions rythmiques\, \nle Trio nous invite à un voyage à travers une mosaïque de couleurs toujours surprenante\, souriante et rythmée… » \nEntrée de 10 à 15 €\nRéservation/billetterie :\nhttps://www.billetweb.fr/open-jam-trio
URL:https://www.galerie-depardieu.com/event/open-jam-trio/
LOCATION:Galerie Depardieu\, 6 rue du docteur Jacques Guidoni\, Nice\, 06000\, France
CATEGORIES:Agenda,Concert
ORGANIZER;CN="Association ARTEP":MAILTO:artep.association@gmail.com
END:VEVENT
BEGIN:VEVENT
DTSTART;TZID=Europe/Paris:20230610T201500
DTEND;TZID=Europe/Paris:20230610T223000
DTSTAMP:20260426T051137
CREATED:20230525T182613Z
LAST-MODIFIED:20230525T183224Z
UID:4289-1686428100-1686436200@www.galerie-depardieu.com
SUMMARY:Duo Alalaké
DESCRIPTION:Samedi 10 Juin 2023 à 20h15\nDuo Alalaké \nAbd Chakûr Boussougou contrebasse\, Oud \nM’Bady Diabate\, Kora \, Chant \n \nL’alchimie qui se dégage de ce duo intimiste formé par le contrebassiste et oudiste gabonais Abd-Chakûr Boussougou  et le koriste bissau-guinéen Mbady Diabate  descendant de deux générations griottes et fondateur du groupe Les Aigles du Mandingue   est à couper le souffle\, tant ils parviennent à se jouer des barrières rythmiques et harmoniques strictes de la musique traditionnelle. Ils n’hésitent pas à détourner les instruments de leur usage classique et à considérer la voix comme un instrument à part entière pour offrir une poésie musicale chaleureuse\, quelque part entre le jazz\, la musique africaine et la musique orientale. \nAbd CHAKUR à la contrebasse et au Oud\, M’bady DIABATE à la kora et au chant nous font partager dans un discours généreux un moment libre\, poétique\, inspiré des musiques traditionnelles\, du jazz et des musiques improvisées. \nextrait festival jazz saint Raphael \n \nextrait concert Bozar Bruxelles\n \nEntrée de 8 à 12 €\nRéservation/billetterie :\nhttps://www.billetweb.fr/duo-alalake
URL:https://www.galerie-depardieu.com/event/duo-alalake/
LOCATION:Galerie Depardieu\, 6 rue du docteur Jacques Guidoni\, Nice\, 06000\, France
CATEGORIES:Agenda,Concert
ORGANIZER;CN="Association ARTEP":MAILTO:artep.association@gmail.com
END:VEVENT
BEGIN:VEVENT
DTSTART;TZID=Europe/Paris:20230623T193000
DTEND;TZID=Europe/Paris:20230623T223000
DTSTAMP:20260426T051137
CREATED:20230525T182807Z
LAST-MODIFIED:20230525T182807Z
UID:4292-1687548600-1687559400@www.galerie-depardieu.com
SUMMARY:Métèque mais pas que - Hommage à Georges Moustaki - Présentation du livre suivi d'un concert
DESCRIPTION:Vendredi 23 Juin 2023 \nMétèque mais pas que\nHommage à Georges Moustaki\nPrésentation du livre suivi d’un concert \n \nà 19h30 Présentation du livre METEQUE …MAIS PAS QUE ! Par Françoise Miran\nGEORGES MOUSTAKI\, symbole d’une époque et d’une aspiration à la liberté est une légende de la chanson française ! Il nous a abreuvé de notes et d’espoir : son militantisme n’avait besoin ni de parti ni de défilé\, il chantait la fraternité et la joie.\nGrec par son père\, italien par sa mère\, égyptien de naissance\, il adorait la langue française qu’il a merveilleusement servi. Nous retrouvons ici dans ses quarante dernières années\, l’homme unique\, fraternel et universel qu’on appelait JO. \nÀ 20h30 Concert\nAvec Françoise Miran (chant & texte) \, Jean Yves Mestre (guitare) \, René Sopa (accordéon) et Jean-Pierre Babarit (basse) \nUn MOUSTAKI ORIGINAL qui ne se limite pas au METEQUE !\nDes anecdotes inédites !\nOn parcourra la GRECE\, l’EGYPTE mai aussi SETE et…. NICE ! \nFrançoise Miran passe de l’industrie pharmaceutique à celui du show-biz\, côtoyant les plus grands artistes tels que Leo Ferré\, Claude Nougaro\, Georges Moustaki\, IAM ou Téléphone qu’elle produit. Présidente d’une association culturelle\, Les Alizés\, depuis 1980\, elle est à la fois organisatrice et productrice de concerts et de festivals\, agent\, tourneur\, auteur compositeur interprète\, et\, selon les circonstances\, traductrice\, réalisateur et journaliste. \nEntrée payante pour le concert de 10 à 15 €\nRéservation/billetterie :\nhttps://www.billetweb.fr/meteque-mais-pas-que
URL:https://www.galerie-depardieu.com/event/meteque-mais-pas-que-hommage-a-georges-moustaki-presentation-du-livre-suivi-dun-concert/
LOCATION:Galerie Depardieu\, 6 rue du docteur Jacques Guidoni\, Nice\, 06000\, France
CATEGORIES:Agenda,Concert
ORGANIZER;CN="Association ARTEP":MAILTO:artep.association@gmail.com
END:VEVENT
BEGIN:VEVENT
DTSTART;TZID=Europe/Paris:20230624T201500
DTEND;TZID=Europe/Paris:20230624T223000
DTSTAMP:20260426T051137
CREATED:20230525T183105Z
LAST-MODIFIED:20230525T183105Z
UID:4295-1687637700-1687645800@www.galerie-depardieu.com
SUMMARY:Dies Goa Unit Trio
DESCRIPTION:Samedi 24 Juin 2023 à 20h15\nDies Goa Unit Trio \nFrançois Szonyi : Guitare électrique\, Chant\nGuy Galassini : Batterie\, Percussions\, Flûte traversière\nAlexandre Del Fa : Basse\, Guitare électroacoustique\, Chant \n \nDies Goa Unit est un trio formé de François Szönyi (guitare)\, Alexandre Del Fa (basse\, Guitare)\, Guy Galassini (batterie et flûte traversière) . L’ensemble s’est produit dans divers festivals de Jazz sur la côte d’azur : le off du Nice Jazz festival\, le Jazz off d’Antibes et le Monte Carlo Jazz festival au Moods\, Cap Jazz festival ainsi que dans divers clubs de jazz comme Le Bar en biais\, le So what\, le Sesamo \, la Cave Romagnan\, l’Espace Léo Ferret à monaco; il a de plus partagé avec succès l’affiche avec Magma pour un concert organisé par Monaco Jazz Chorus en Principauté et s’est produit à divers festivals de musique en Italie: Antichi borghi di Liguria\, Festival della valle dell’orfento et à Arezzo\, Veneto Winter jazz festival à Rovigo\, Jazz club « Cantine de l’arena de Verone et le jazz club il « Q » de Padoue. \nLe trio a récemment joué avec le bassiste et chanteur Richard Sinclair\, icône du rock progressif (ex Caravan\, Hatfield & the North\, Camel\, etc…)\,et en 2017 au Sunset\, celèbre club de jazz parisien. \nLiens youtube Video Sunset Dies Goa Unit\n\n\n \nEn janvier 2016 le groupe a sorti son premier album “Nothing As An End”\nDies Goa Unit fait aujourd’hui la synthèse de ces expériences électriques\, acoustiques\, discographiques et scèniques\, dans un programme qui\, dans un esprit d’aventure\, mêle des compositions actuelles\, ainsi que des remixes\, (Chick Corea\, Soft machine\, Caravanetc…)\, entre acoustique et électronique\, jazz\, rock\, world et musique de chambre.\nSite : http://www.wix.com/galag8/diesgoaunit \nLe guitariste François Szonyi et le bassiste Alexandre Del fa font également partie du quatuor de guitare AIGHETTA QUARTETT avec lequel ils se produisent à travers l’europe depuis plus de 20 ans\, enregistrant 9 CD dont deux avec le guitariste John Mc Laughlin (Time remember et Tievs and poets) chez Polygram Verve : à découvrir sur www.aighetta.com. \nEntrée 15 € – 12 € pour les adhérents\, 10 € pour les étudiants\nRéservation/billetterie : https://www.billetweb.fr/dies-goa-unit-trio1
URL:https://www.galerie-depardieu.com/event/dies-goa-unit-trio-2/
LOCATION:Galerie Depardieu\, 6 rue du docteur Jacques Guidoni\, Nice\, 06000\, France
CATEGORIES:Agenda,Concert
ORGANIZER;CN="Association ARTEP":MAILTO:artep.association@gmail.com
END:VEVENT
END:VCALENDAR