BEGIN:VCALENDAR
VERSION:2.0
PRODID:-//Galerie Depardieu - ECPv6.15.20//NONSGML v1.0//EN
CALSCALE:GREGORIAN
METHOD:PUBLISH
X-WR-CALNAME:Galerie Depardieu
X-ORIGINAL-URL:https://www.galerie-depardieu.com
X-WR-CALDESC:Évènements pour Galerie Depardieu
REFRESH-INTERVAL;VALUE=DURATION:PT1H
X-Robots-Tag:noindex
X-PUBLISHED-TTL:PT1H
BEGIN:VTIMEZONE
TZID:Europe/Paris
BEGIN:DAYLIGHT
TZOFFSETFROM:+0100
TZOFFSETTO:+0200
TZNAME:CEST
DTSTART:20250330T010000
END:DAYLIGHT
BEGIN:STANDARD
TZOFFSETFROM:+0200
TZOFFSETTO:+0100
TZNAME:CET
DTSTART:20251026T010000
END:STANDARD
BEGIN:DAYLIGHT
TZOFFSETFROM:+0100
TZOFFSETTO:+0200
TZNAME:CEST
DTSTART:20260329T010000
END:DAYLIGHT
BEGIN:STANDARD
TZOFFSETFROM:+0200
TZOFFSETTO:+0100
TZNAME:CET
DTSTART:20261025T010000
END:STANDARD
BEGIN:DAYLIGHT
TZOFFSETFROM:+0100
TZOFFSETTO:+0200
TZNAME:CEST
DTSTART:20270328T010000
END:DAYLIGHT
BEGIN:STANDARD
TZOFFSETFROM:+0200
TZOFFSETTO:+0100
TZNAME:CET
DTSTART:20271031T010000
END:STANDARD
END:VTIMEZONE
BEGIN:VEVENT
DTSTART;TZID=Europe/Paris:20260312T143000
DTEND;TZID=Europe/Paris:20260502T183000
DTSTAMP:20260421T142043
CREATED:20260219T164959Z
LAST-MODIFIED:20260219T165548Z
UID:5626-1773325800-1777746600@www.galerie-depardieu.com
SUMMARY:Exposition DES COMPAGNONS DE ROUTE…  « Artistes du XXième siècle… et suite » Arman\, Alocco\, Ben\, Brondello\, Charvolen\, Miguel.
DESCRIPTION:Jeudi 12 mars 2026 de 16h à 20h\nVernissage en présence des artistes\nDES COMPAGNONS DE ROUTE… \n« Artistes du XXième siècle… et suite »\nArman\, Alocco\, Ben\, Brondello\, Charvolen\, Miguel. \nInformations en cours  \nEntrée libre\nExposition jusqu’au 2 mai 2026 \n 
URL:https://www.galerie-depardieu.com/event/exposition-des-compagnons-de-route-artistes-du-xxieme-siecle-et-suite-arman-alocco-ben-brondello-charvolen-miguel/
LOCATION:Galerie Depardieu\, 6 rue du docteur Jacques Guidoni\, Nice\, 06000\, France
CATEGORIES:Agenda,exposition
ORGANIZER;CN="Association ARTEP":MAILTO:artep.association@gmail.com
END:VEVENT
BEGIN:VEVENT
DTSTART;TZID=Europe/Paris:20260312T143000
DTEND;TZID=Europe/Paris:20260502T183000
DTSTAMP:20260421T142043
CREATED:20260227T183119Z
LAST-MODIFIED:20260227T183319Z
UID:5647-1773325800-1777746600@www.galerie-depardieu.com
SUMMARY:DES COMPAGNONS DE ROUTE…  « Artistes du XXième siècle… et suite »
DESCRIPTION:Jeudi 12 mars 2026 à partir de 17h Vernissage \nDES COMPAGNONS DE ROUTE… \n« Artistes du XXième siècle… et suite »\nExposition conçue par Marcel Alocco\nArman\, Alocco\, Ben\, Brondello\, Charvolen\, Miguel.\nEntrée libre \n \nJeudi 12 mars 2026 à partir de 17h Vernissage\nAu programme pour le vernissage :\nà 17h\, Présentation du nouveau livre de Marcel Alocco « Un panthéon Alocco »\, illustration par Sylvain Besançon\, édition Les cahiers du Museur.\nA partir de 18h lecture par Paul Laurent\nPrésentation de Je suis ce que font mes mains\, entretiens de Martine Monacelli avec Michèle Brondello\, aux éditions de l’Ormaie. Tirage de tête présenté dans une pochette avec dessin original et couture de Marcel Alocco\, avec un dessin de Michèle Brondello et un tissu de Louise Caroline.\nA 19 h Buffet \nDans les années 60 à 80 du siècle dernier dans l’esprit Ecole de Nice et autour\, Nouveau-Réalisme\, Fluxus\, Supports-Surfaces …etc… des artistes échangeaient\, que ce soit en accord ou désaccord\, en général cordialement. Chacun poursuivant une démarche qui\, personnalisée\, débordait les définitions des mouvements et plus encore des groupes. Les circonstances nous ont beaucoup dispersés\, mais certaines estimes\, affinités intellectuelles ou amicales ont maintenu des relations\, échanges\, et à l’occasion collaborations en expositions ou en accompagnements pour des livres d’artistes. Sous ce titre : « Compagnons de route »\, nous aurions peut-être pu être plus nombreux\, dix\, quinze\, cinquante\, si les conditions matérielles n’obligeaient à faire des choix\, subjectifs forcément.\nMarcel Alocco \nEntrée libre\nExposition jusqu’au 2 mai 2026
URL:https://www.galerie-depardieu.com/event/des-compagnons-de-route-artistes-du-xxieme-siecle-et-suite/
LOCATION:Galerie Depardieu\, 6 rue du docteur Jacques Guidoni\, Nice\, 06000\, France
CATEGORIES:Agenda,exposition,Vernissage
END:VEVENT
BEGIN:VEVENT
DTSTART;TZID=Europe/Paris:20260402T143000
DTEND;TZID=Europe/Paris:20260509T183000
DTSTAMP:20260421T142043
CREATED:20260330T185407Z
LAST-MODIFIED:20260330T185407Z
UID:5668-1775140200-1778351400@www.galerie-depardieu.com
SUMMARY:MoKo  « Tu récolteras la tempête ! »  (même sous un ciel bleu...)
DESCRIPTION:Jeudi 2 avril 2026 de 18h à 20h\nVernissage en présence de l’artiste\nMoKo \n« Tu récolteras la tempête ! » \n(même sous un ciel bleu…) \nEntrée libre \nPar la diversité des formats et la cohérence des thématiques abordées\, cette exposition invite le visiteur à une expérience de lecture attentive\, où l’image devient un espace de projection et d’interprétation. Elle témoigne d’une démarche artistique ancrée dans l’exploration des affects et des représentations contemporaines de l’intimité.\nPhotographie\, collage\, techniques mixtes \n \nA plusieurs reprises il m’avait écrit : « C’est moi\, mais ça ne sera jamais moi\, n’est-ce pas ? ». Il avait donc finalement compris ce qui se tramait depuis le début. Et sans doute percevait-il toute l’ironie macabre de notre situation. Pourtant\, lui aussi se prêtait volontiers à nos saynètes de couples et autres dinettes d’amoureux\, dont la vacuité n’avait d’égal que l’acharnement vaniteux que l’on mettait à les jouer et rejouer sans cesse\, jusqu’à ce que l’amour finisse – toujours – par nous séparer. Peu importe le résultat\, seule l’intention avait fini par compter pour nous. Il me semblait que désormais il savait\, sans plus aucun doute\, que même sous les – apparents – meilleurs hospices\, il n’obtiendrait – presque – rien de ce dont il rêvait follement. \nAffectionnant les sentiments amoureux\, le cynisme\, les écartèlements émotionnels\, j’ai toujours utilisé la voie de l’auto-représentation\, comme matrice me permettant de m’exprimer sur ces sujets. Mais cette fois le monologue a fait place au dialogue\, inspirée par une personne pouvant répondre à mes répliques. Dans ce récit photographique\, la muse est un homme… \nAvec Tu récolteras la tempête ! (même sous un ciel bleu)\, j’ai découvert une toute nouvelle façon de travailler la « matière » offerte par ces intérieurs inhabités. J’y déambule désormais avec l’assurance insolente d’y avoir vécu. Je m’y projette dans des situations presque palpables\, tant leur impression me paraît « vraie ». J’y perds définitivement toute notion de temps dans ce qui constitue une rêve éveillé… \nMoKo \nEntrée libre\nExposition jusqu’au 9 mai 2026\nDu lundi au samedi de 14h30 à 18h30
URL:https://www.galerie-depardieu.com/event/moko-tu-recolteras-la-tempete-meme-sous-un-ciel-bleu/
LOCATION:Galerie Depardieu\, 6 rue du docteur Jacques Guidoni\, Nice\, 06000\, France
CATEGORIES:Agenda,exposition,Vernissage
END:VEVENT
BEGIN:VEVENT
DTSTART;TZID=Europe/Paris:20260423T200000
DTEND;TZID=Europe/Paris:20260423T213000
DTSTAMP:20260421T142043
CREATED:20260330T185730Z
LAST-MODIFIED:20260330T185730Z
UID:5673-1776974400-1776979800@www.galerie-depardieu.com
SUMMARY:Projection L'ECOLE DE NICE Documentaire réalisé par Christian PASSUELLO
DESCRIPTION:Jeudi 23 avril 2026 à 20h\nProjection L’ECOLE DE NICE\nDocumentaire réalisé par Christian PASSUELLO \n \nDans les années 60/70 la région niçoise est à l’avant-garde de la création contemporaine. Malgré l’indifférence ou l’hostilité locale\, c’est la première décentralisation de l’art moderne en France. A cette époque les galeries\, les institutions\, les subventions\, les musées sont inexistants. Malgré tout Nouveaux Réalistes\, Fluxus\, Support-Surface\, Groupe 70\, imposent leur pratique et s’exposent dans tous les lieux disponibles.\nL’École de Nice est un ensemble artistique qui n’a d’académique que son nom. Cette mouvance regroupe les individualités les plus diverses.\nAujourd’hui les anciens jeunes subversifs de ces années bouillonnantes sont\, pour la plupart\, des valeurs sûres du marché de l’art. Il est donc naturel qu’une nouvelle génération assure la relève… \nArtistes : ARMAN\, KLEIN\, RAYSSE\, CESAR\, BEN\, FARHI\, GILLI\, MALAVAL\, VENET\, SOSNO\, PINONCELLI\, SERGE III\, VERDET\, PAGES\, ALOCCO\, CHUBAC\, VIALLAT\, DOLLA\, CHARVOLEN\, MIGUEL\, MACCAFERRI\, CHACALLIS\, CHEIX\, MAUBERT\, ALPI\, MOYA. \nHistoriens d’art : RESTANY\, LEPAGE\, MONTICCELLI. \nMarchands d’art : DE LA SALLE\, FERRERO. MATARASSO \nDocumentaire 52mn Beta SP\nAnnée : 1998\nRéalisation : Christian PASSUELLO \nEntrée 6 € – Etudiant 4 €\nRéservation/billetterie : https://www.billetweb.fr/projection-lecole-de-nice-documentaire-realise-par-christian-passuello
URL:https://www.galerie-depardieu.com/event/projection-lecole-de-nice-documentaire-realise-par-christian-passuello/
LOCATION:Galerie Depardieu\, 6 rue du docteur Jacques Guidoni\, Nice\, 06000\, France
CATEGORIES:Agenda,projection
ORGANIZER;CN="Association ARTEP":MAILTO:artep.association@gmail.com
END:VEVENT
BEGIN:VEVENT
DTSTART;TZID=Europe/Paris:20260424T200000
DTEND;TZID=Europe/Paris:20260424T213000
DTSTAMP:20260421T142043
CREATED:20260331T151949Z
LAST-MODIFIED:20260331T151949Z
UID:5684-1777060800-1777066200@www.galerie-depardieu.com
SUMMARY:Projection « La mort a joué au garage » + « Dune couleur à l'autre » Films de Georges Sammut
DESCRIPTION:Vendredi 24 avril 2026 à 20h\nProjection « La mort a joué au garage » + « Dune couleur à l’autre »\nFilms de Georges Sammut \n \nLA MORT A JOUĖ AU GARAGE\, 30’00. 2015.\nd’après « Notre besoin de consolation est impossible à rassasier » de STIG DAGERMAN\nun film de Georges SAMMUT\nDésigné dès son premier roman comme représentant emblématique de la jeune littérature suédoise\, Stig DAGERMAN (1923-1954) écrit fiévreusement quatre années durant. Soudain\, une étrange paralysie l’étreint devant la page blanche. Silence à peine rompu par ce texte bref devenu culte et la pratique assidue d’un jeu avec la mort qui donne le titre de cette lecture en images. \nD’UNE COULEUR L’AUTRE\, 32’00. 2026.\nun film de Georges SAMMUT\nDepuis toujours\, les couleurs ont\, par leur éclat\, leur symbolique ou superstition\, influencé les émotions ou perceptions humaines. Autant de nuances de noir\, rouge\, bleu\, vert\, jaune et blanc\, harmonies ou contrepoints permettant à chacun de composer lors de ce film expérimental sa propre mélodie lumineuse. L’œil écoute. \nEntrée 6 € – Etudiant 4 €\nRéservation/billetterie : https://www.billetweb.fr/projection-la-mort-a-joue-au-garage-dune-couleur-a-lautre-films-de-georges-sammut
URL:https://www.galerie-depardieu.com/event/projection-la-mort-a-joue-au-garage-dune-couleur-a-lautre-films-de-georges-sammut/
LOCATION:Galerie Depardieu\, 6 rue du docteur Jacques Guidoni\, Nice\, 06000\, France
CATEGORIES:Agenda,projection
ORGANIZER;CN="Association ARTEP":MAILTO:artep.association@gmail.com
END:VEVENT
BEGIN:VEVENT
DTSTART;TZID=Europe/Paris:20260425T201500
DTEND;TZID=Europe/Paris:20260425T223000
DTSTAMP:20260421T142043
CREATED:20260331T152150Z
LAST-MODIFIED:20260331T152150Z
UID:5687-1777148100-1777156200@www.galerie-depardieu.com
SUMMARY:Erik Satie\, chapeau melon et parapluie ou Les pérégrinations d’un déraisonné
DESCRIPTION:Samedi 25 avril 2026 à 20h15\nErik Satie\, chapeau melon et parapluie\nou Les pérégrinations d’un déraisonné \nLa compagnie à corps d’âme avec\nClaire Gouton\, voix chantée et parlée\nAdrien Nizon\, comédien\nMarika Hofmeyr\, piano\nKetsiha Lembergier \, mise en scène \nEntre concert et comédie : la partition dérape avec fantaisie ! \n \nUne pianiste\, une chanteuse\, et un certain Monsieur Satie en personne…\nEntre confidences grnçantes et éclats d’absurde\, la musique prend la parole.\ndes partitions les plus épurées aux chansonnettes irréverencieuses du Chat Noir\, tout se mêle : le rire\, l’étrangeté\, et cette lucidité solitaire qui lui fait voir le monde de travers.\nUn concert théâtral comme on en fait plus.\nCe spectacle imaginé comme un dialogue entre le compositeur Erik Satie et quelques amis-artistes qui ont partagé son chemin\, vous invite à découvrir\, au-delà de l’image excentrique bien connue du personnage\, diverses facettes de son parcours: ses débuts comme pianiste au célèbre cabaret Le Chat Noir\, son amitié avec Claude Debussy\, son unique relation amoureuse avec Suzanne Valadon et son univers contrasté tour à tour burlesque\, poétique ou tragique. \nUn exemple à ce génie provocateur ? sa pièce Vexations qualifiée de «plus longue pièce pour piano de l’Histoire» par le Livre Guinness des records ne dure pas moins de 18 heures ! \nMais soyez rassurés\, nous ne vous ferons pas l’affront de vous la jouer dans cette présentation. Sous la direction scénique inspirée de Ketsiha Lembergier\, les chanteuse et pianiste Claire Gouton et Marika Hofmeyr\, accompagnées du comédien Adrien Nizon\, rendent hommage à ce compositeur génial et hors-normes à travers ce spectacle vocal qui mêle mélodies\, pièces pour piano et écrits\, et qui saura vous réjouir autant que vous émouvoir. \nEntrée 15 € / adhérent : 12 € / Tarif étudiant 10 €\nRéservation/billetterie : https://www.billetweb.fr/erik-satie-chapeau-melon-et-parapluie-ou-les-peregrinations-d-un-deraisonne
URL:https://www.galerie-depardieu.com/event/erik-satie-chapeau-melon-et-parapluie-ou-les-peregrinations-dun-deraisonne/
LOCATION:Galerie Depardieu\, 6 rue du docteur Jacques Guidoni\, Nice\, 06000\, France
CATEGORIES:Agenda,Concert,theatre
ORGANIZER;CN="Association ARTEP":MAILTO:artep.association@gmail.com
END:VEVENT
END:VCALENDAR