BEGIN:VCALENDAR
VERSION:2.0
PRODID:-//Galerie Depardieu - ECPv6.15.20//NONSGML v1.0//EN
CALSCALE:GREGORIAN
METHOD:PUBLISH
X-WR-CALNAME:Galerie Depardieu
X-ORIGINAL-URL:https://www.galerie-depardieu.com
X-WR-CALDESC:Évènements pour Galerie Depardieu
REFRESH-INTERVAL;VALUE=DURATION:PT1H
X-Robots-Tag:noindex
X-PUBLISHED-TTL:PT1H
BEGIN:VTIMEZONE
TZID:Europe/Paris
BEGIN:DAYLIGHT
TZOFFSETFROM:+0100
TZOFFSETTO:+0200
TZNAME:CEST
DTSTART:20240331T010000
END:DAYLIGHT
BEGIN:STANDARD
TZOFFSETFROM:+0200
TZOFFSETTO:+0100
TZNAME:CET
DTSTART:20241027T010000
END:STANDARD
BEGIN:DAYLIGHT
TZOFFSETFROM:+0100
TZOFFSETTO:+0200
TZNAME:CEST
DTSTART:20250330T010000
END:DAYLIGHT
BEGIN:STANDARD
TZOFFSETFROM:+0200
TZOFFSETTO:+0100
TZNAME:CET
DTSTART:20251026T010000
END:STANDARD
BEGIN:DAYLIGHT
TZOFFSETFROM:+0100
TZOFFSETTO:+0200
TZNAME:CEST
DTSTART:20260329T010000
END:DAYLIGHT
BEGIN:STANDARD
TZOFFSETFROM:+0200
TZOFFSETTO:+0100
TZNAME:CET
DTSTART:20261025T010000
END:STANDARD
END:VTIMEZONE
BEGIN:VEVENT
DTSTART;TZID=Europe/Paris:20250417T143000
DTEND;TZID=Europe/Paris:20250531T183000
DTSTAMP:20260424T141939
CREATED:20250328T191503Z
LAST-MODIFIED:20250328T191503Z
UID:5293-1744900200-1748716200@www.galerie-depardieu.com
SUMMARY:Exposition Cécile Andrieu – ARCHI-TEXTURES
DESCRIPTION:Cécile Andrieu – ARCHI-TEXTURES \nVernissage Jeudi 17 avril de 16h à 21h\, en présence de l’artiste.\nExposition jusqu’au 31 mai 2025\nEntrée libre\nDu lundi au samedi de 14h30 à 18h30 \n \nDésœuvrer au nom du monde. Les archi-textures de Cécile Andrieu\nCécile Andrieu continue\, admirablement obstinée\, à « désœuvrer » l’écrit\, les mots\, leurs intentions de sens\, pour les rendre à la matérialité et livrer ainsi à l’attention une esthétique paradoxale de l’inscription. De ce geste répété en des variations elles-mêmes repliées sur l’insistance : exposant des séries\, des scansions\, des rappels\, croît une affirmation créative qui tire sa nécessité de l’histoire. Car ce retour de l’imprimé à une matière ouvrée\, égrenée\, roulée\, enveloppée\, scrupuleusement reconditionnée\, fait monter à la présence un lien vital et originel au langage\, que noie aujourd’hui l’empire du visuel et du code. Etrange anamnèse qui donne à voir l’assourdi ou le défait en martyrisant l’objet de sa plaidoirie ! Qui confie la défense du sens à des supports du langage qu’elle rend méconnaissables ! Mais aveu clair du combat engagé lorsqu’il triture des dictionnaires et des encyclopédies\, notamment médicales\, sommes hantées par l’esprit analytique\, énumératif\, positiviste\, inventaires déjà découpés eux-mêmes en rubriques\, dénués de véritable texte. La création plasticienne remonte alors de son enfer : au creux et aux antipodes du langage-objet\, elle s’éclaire d’une autre parole\, restée vivante\, dont l’absence devient comme l’ultime chance de manifestation. Elle assume l’acte à la fois désespéré et patient de contrer un impossible : la numérisation du monde\, effacement de la vie au profit d’un artefact radicalement muet\, vecteur de contrôle et de marchandisation. L’imprimerie avait certes déjà refoulé la parole. Mais le silence multiplié du texte imprimé rapproche les êtres éloignés\, leur apprend des liens insoupçonnés\, fait voyager l’esprit. Les pouvoirs d’oppression l’ont vite su : la liberté écrit son nom. Les livres sont leurs ennemis. Avec le numérique\, le texte est devenu chiffre. Et le monde une machinerie destinée à faire du chiffre. En réplique oblique à cette destruction technologique et affairée de la présence\, Cécile Andrieu expose la condition matérielle des mots. Ses installations invitent à entrer dans un silence qui écoute notre présent\, à éprouver l’angle mort d’un langage envahi de discours et en voie de mutation vers le formalisme. Son évocation texturée de la civilisation du livre\, ses jeux dans l’illisible\, ses typographies orphelines\, méditent notre extinction. Mais révèlent une objection. \n(Jean-Marc Mouillie\, écrivain)
URL:https://www.galerie-depardieu.com/event/exposition-cecile-andrieu-archi-textures/
LOCATION:Galerie Depardieu\, 6 rue du docteur Jacques Guidoni\, Nice\, 06000\, France
CATEGORIES:Agenda,exposition
END:VEVENT
BEGIN:VEVENT
DTSTART;TZID=Europe/Paris:20250515T143000
DTEND;TZID=Europe/Paris:20250726T183000
DTSTAMP:20260424T141939
CREATED:20250506T150721Z
LAST-MODIFIED:20250617T164558Z
UID:5346-1747319400-1753554600@www.galerie-depardieu.com
SUMMARY:Exposition Oksana Sokolova – 8 jours au pouvoir
DESCRIPTION:Oksana Sokolova – 8 jours au pouvoir\nVernissage Jeudi 15 mai de 18h à 21h\, en présence de l’artiste.\nExposition jusqu’au 21 juin 2025 prolongée jusqu’au 26 juillet 2025\nEntrée libre\nDu lundi au samedi de 14h30 à 18h30 \n \nOksana Sokolova\, artiste plasticienne et architecte\, utilise divers médias comme la photographie\, l’installation et la peinture pour explorer les défis sociétaux\, les mutations temporelles et les actions individuelles. Les sujets explorés sont mis en avant en fonction de ses questionnements. Ils peuvent varier et prendre diverses formes en fonction du contexte dans lequel elle se voit évoluer. \nSon projet « 8 jours au pouvoir » tente de mêler critique sociale et discours politique\, mettant un accent sur les thèmes de la liberté et de manipulation des masses. \n« Le projet « 8joursaupouvoir » raconte l’expérience d’une personne qui détient le pouvoir.\nLa vie des gens\, a-t-elle une valeur égale entre celle qui possède le pouvoir et ceux qui le\nsubissent ? La question de liberté est à la base de ce projet. Ce qui m’intéresse particulièrement ici\, c’est les ressentis non pas de la personne manipulée\, mais de celui qui manipule\, qui « se trouve aux commandes ». Durant une expérience de 8 jours j’ai tenté de m’observer pendant la manipulation des êtres vivants – les escargots\, pour les obliger à dessiner des tableaux avec leur bave sur des supports que j’ai créé pour cela. Ce projet a plusieurs lectures possibles\, où la restriction des libertés peut être explorée sous les différents angles. » O.S. \nOksana Sokolova est diplômée en architecture et en arts plastiques à Paris. Actuellement\nelle vit et travaille à Nice.
URL:https://www.galerie-depardieu.com/event/exposition-oksana-sokolova-8-jours-au-pouvoir/
LOCATION:Galerie Depardieu\, 6 rue du docteur Jacques Guidoni\, Nice\, 06000\, France
CATEGORIES:Agenda,exposition
END:VEVENT
BEGIN:VEVENT
DTSTART;TZID=Europe/Paris:20250524T201500
DTEND;TZID=Europe/Paris:20250524T223000
DTSTAMP:20260424T141939
CREATED:20250506T152037Z
LAST-MODIFIED:20250506T152037Z
UID:5354-1748117700-1748125800@www.galerie-depardieu.com
SUMMARY:Latino Social Quartet
DESCRIPTION:Samedi 24 Mai 2025 à 20h15\nLatino Social Quartet \nGabriela Bay : Chant\, Percussions\nJean-pierre Babarit : Guitare\nEmmanuel Marsy : Guitare Basse\nYahn Delgrange : Batterie\, percussions \nVous propose un voyage musical dans toute l’Amérique du sud :\nBrésil\, Cuba\, Argentine\, Mexique … \n \nEntrée 15 € / adhérent : 12 € / Tarif étudiant 10 €\nRéservation/billetterie : https://www.billetweb.fr/latino-social-quartet
URL:https://www.galerie-depardieu.com/event/latino-social-quartet/
LOCATION:Galerie Depardieu\, 6 rue du docteur Jacques Guidoni\, Nice\, 06000\, France
CATEGORIES:Agenda,Concert
ORGANIZER;CN="Association ARTEP":MAILTO:artep.association@gmail.com
END:VEVENT
END:VCALENDAR