BEGIN:VCALENDAR
VERSION:2.0
PRODID:-//Galerie Depardieu - ECPv6.15.20//NONSGML v1.0//EN
CALSCALE:GREGORIAN
METHOD:PUBLISH
X-ORIGINAL-URL:https://www.galerie-depardieu.com
X-WR-CALDESC:Évènements pour Galerie Depardieu
REFRESH-INTERVAL;VALUE=DURATION:PT1H
X-Robots-Tag:noindex
X-PUBLISHED-TTL:PT1H
BEGIN:VTIMEZONE
TZID:Europe/Paris
BEGIN:DAYLIGHT
TZOFFSETFROM:+0100
TZOFFSETTO:+0200
TZNAME:CEST
DTSTART:20240331T010000
END:DAYLIGHT
BEGIN:STANDARD
TZOFFSETFROM:+0200
TZOFFSETTO:+0100
TZNAME:CET
DTSTART:20241027T010000
END:STANDARD
BEGIN:DAYLIGHT
TZOFFSETFROM:+0100
TZOFFSETTO:+0200
TZNAME:CEST
DTSTART:20250330T010000
END:DAYLIGHT
BEGIN:STANDARD
TZOFFSETFROM:+0200
TZOFFSETTO:+0100
TZNAME:CET
DTSTART:20251026T010000
END:STANDARD
BEGIN:DAYLIGHT
TZOFFSETFROM:+0100
TZOFFSETTO:+0200
TZNAME:CEST
DTSTART:20260329T010000
END:DAYLIGHT
BEGIN:STANDARD
TZOFFSETFROM:+0200
TZOFFSETTO:+0100
TZNAME:CET
DTSTART:20261025T010000
END:STANDARD
END:VTIMEZONE
BEGIN:VEVENT
DTSTART;TZID=Europe/Paris:20250306T143000
DTEND;TZID=Europe/Paris:20250412T183000
DTSTAMP:20260424T160614
CREATED:20250303T165722Z
LAST-MODIFIED:20250303T165722Z
UID:5260-1741271400-1744482600@www.galerie-depardieu.com
SUMMARY:«  La Promenade POP de Cristobal le Poisson Rouge »  Exposition de Maurice Renoma
DESCRIPTION:«  La Promenade POP de Cristobal le Poisson Rouge » \nExposition de Maurice Renoma \nVernissage Jeudi 6 mars de 16h à 21h\nExposition jusqu’au 12 avril 2025\nEntrée libre \nAprès la Bretagne (Saint-Quay-Portrieux)\, la Normandie (Trouville) et le Grand Est (Strasbourg)\, Cristobal le poisson rouge s’offre une Promenade pop à Nice à la Galerie Depardieu du 6 mars au 12 avril 2025. \n\n \nProtagoniste des dernières expositions et expérimentations artistiques de Maurice Renoma (Mythologies du Poisson Rouge\, Scène Symphonique\, Anamorphose\,…)\, Cristobal est le symbole des réflexions écologique et humaniste de l’artiste\, présentées sous forme de fables\, de mythologies.\n \nDepuis 2017\, Maurice Renoma fait voyager cet alter ego artistique à travers le monde pour dénoncer les ravages de la pollution liés à la surconsommation et la dégradation de la conscience collective.\n \nCristobal nage à travers des mises en scènes spectaculaires et immersives\, cocasses et poétiques\, pointant les problématiques écologiques mais aussi sociétales.\n \nSi le Pop Art se montre volontiers provocateur\, voire politique\, et tend à désacraliser l’œuvre d’art en la rendant accessible à tous\, Maurice Renoma a aussi créé sa propre icone pop : Cristobal\, ce poisson rouge né de polymères\, qui utilise le pouvoir de l’image pour incarner la critique du matérialisme et du consumérisme observés dans les sociétés modernes.
URL:https://www.galerie-depardieu.com/event/la-promenade-pop-de-cristobal-le-poisson-rouge-exposition-de-maurice-renoma/
LOCATION:Galerie Depardieu\, 6 rue du docteur Jacques Guidoni\, Nice\, 06000\, France
CATEGORIES:Agenda,exposition
ORGANIZER;CN="Association ARTEP":MAILTO:artep.association@gmail.com
END:VEVENT
END:VCALENDAR