BEGIN:VCALENDAR
VERSION:2.0
PRODID:-//Galerie Depardieu - ECPv6.15.20//NONSGML v1.0//EN
CALSCALE:GREGORIAN
METHOD:PUBLISH
X-ORIGINAL-URL:https://www.galerie-depardieu.com
X-WR-CALDESC:Évènements pour Galerie Depardieu
REFRESH-INTERVAL;VALUE=DURATION:PT1H
X-Robots-Tag:noindex
X-PUBLISHED-TTL:PT1H
BEGIN:VTIMEZONE
TZID:Europe/Paris
BEGIN:DAYLIGHT
TZOFFSETFROM:+0100
TZOFFSETTO:+0200
TZNAME:CEST
DTSTART:20230326T010000
END:DAYLIGHT
BEGIN:STANDARD
TZOFFSETFROM:+0200
TZOFFSETTO:+0100
TZNAME:CET
DTSTART:20231029T010000
END:STANDARD
BEGIN:DAYLIGHT
TZOFFSETFROM:+0100
TZOFFSETTO:+0200
TZNAME:CEST
DTSTART:20240331T010000
END:DAYLIGHT
BEGIN:STANDARD
TZOFFSETFROM:+0200
TZOFFSETTO:+0100
TZNAME:CET
DTSTART:20241027T010000
END:STANDARD
BEGIN:DAYLIGHT
TZOFFSETFROM:+0100
TZOFFSETTO:+0200
TZNAME:CEST
DTSTART:20250330T010000
END:DAYLIGHT
BEGIN:STANDARD
TZOFFSETFROM:+0200
TZOFFSETTO:+0100
TZNAME:CET
DTSTART:20251026T010000
END:STANDARD
BEGIN:DAYLIGHT
TZOFFSETFROM:+0100
TZOFFSETTO:+0200
TZNAME:CEST
DTSTART:20260329T010000
END:DAYLIGHT
BEGIN:STANDARD
TZOFFSETFROM:+0200
TZOFFSETTO:+0100
TZNAME:CET
DTSTART:20261025T010000
END:STANDARD
END:VTIMEZONE
BEGIN:VEVENT
DTSTART;TZID=Europe/Paris:20241205T143000
DTEND;TZID=Europe/Paris:20250118T183000
DTSTAMP:20260424T185945
CREATED:20241126T171810Z
LAST-MODIFIED:20241126T171810Z
UID:4813-1733409000-1737225000@www.galerie-depardieu.com
SUMMARY:L'éloge du temps - La galerie Depardieu expose cinq artistes Start
DESCRIPTION:L’éloge du temps \nLa galerie Depardieu expose cinq artistes Start\nTiziana Bendall Brunello / Alain de Fombelle / Pierre Jehel / Philippe Mardini / Claudie Poinsard\nVernissage Jeudi 5 décembre 2024 de 16h à 21h\, en présence des artistes\nExposition jusqu’au 18 janvier 2025\nEntrée libre \n \nCette exposition collective L’éloge du temps est elle-même tissée des regards et des secrets des cinq artistes réunis pour l’occasion.\nSon titre fait partie de l’exposition\, donc de son fonctionnement. Un titre\, c’est un poteau d’angle. Il borde et cadre\, disait Jacques Derrida. Et parce que celui-ci a le front haut\, il réclame qu’on l’envisage. Outre le fait qu’il informe\, qu’il attire l’attention\, qu’il peut et doit susciter l’intérêt\, un titre c’est un ciel qui donne une coloration et une indication de ton sur ce qui sous lui se trouve déployé.\nLa préoccupation des cinq artistes-exposants concerne le temps dont la représentation dans l’histoire de l’art\, des Memento mori aux Montres molles en passant par les Vanités\, est récurrente.\nLe temps\, certes\, mais lequel ? Celui qui passe\, celui qui reste\, celui dont on manque\, celui qui nous\npresse\, celui qui nous pèse quand il ne nous tue pas\, celui qu’il fait dehors ou dit autrement s’agit-il du temps physique\, mesurable\, quantitatif et linéaire\, le Chronos de nos montres ou de ce juste temps juste du moment opportun\, ce Kairos de nos extases à moins que ce ne soit celui illimité\, de l’Aiôn quand « l’éternité est amoureuse des ouvrages du temps » selon les mots deWilliam Blake… Comme il conviendrait d’opérer le « nettoyage de (sa) situation verbale » dont parlait Vladimir Jankélévitch.\nS’il y a une chose que nous partageons tous\, c’est ce choc existentiel qui nous fait prendre conscience de notre finitude. Oui nous sommes mortels et tout cela finira mal. Nous avons été jetés dans le temps.\nNous voilà embarqués sur un cours au débit irrégulier – sa noise est affaire de rencontres : apories et écueils – dans la régularité\, oserais-je dire qui fait – on le voit – que quoi qu’on fasse ça avance\, finalement. C’est bien ce qui étonne – souvenons-nous de Jean Giono : « le temps\, c’est ce qui passe quand rien ne se passe » – c’est que ce qui nous pousse\, ce moteur\, lui ne passe pas\, ce sont les instants qui passent\, se succèdent\, se renouvellent sans cesse\, irréversiblement.\nÉtant entendu que les maintenant ne sauraient coexister\, que l’un chasse l’autre\, et ce incessamment\, on pourrait risquer l’image d’un temps qui serait comme une gomme qui passerait son temps à se gommer elle-même. Comment représenter cette force toujours au travail qui désarticule le temps\, qui fait que le présent est juste impossible puisque jeté dans le changement continuel.\nOn pense à l’Hamlet de Shakespeare qui s’exclamait : Time is out of joint ! Comment aborder le disjoint\, l’entre-deux\, sans-bord et comme tel inabordable ? Comment figurer cet insaisissable autrement qu’en le trans-figurant ? En ce sens l’art nomme toujours autre chose. Ses œuvres citent\, appellent\, font venir devant autre chose. Elles organisent un espace scénique où ses objets paraissent à travers leurs représentants. Ainsi en va-t-il du temps. De cet irreprésentable\, il n’y a pas de présentation possible\, pas de mise en présence. Un trou affleure sous l’imaginaire. Sans image le temps\, mais pas sans représentation !\nVous vous souvenez\, Picasso disait à sa manière provocatrice : « Il faudrait tout peindre ». J’entends le conditionnel qui me dit que précisément “tout” ne peut pas être peint. Langage du désir\, la peinture ouvre la série des “comme si…”.\nCe sont autant de lunettes d’approche que nous présentent les œuvres réunies dans cette exposition\, toutes s’attachant non à reproduire le visible\, mais bien à tâcher de rendre visible comme le voulait Klee ce qu’il pourrait en être du temps\, de ce temps qui fait passer la réalité en devançant dans ce qui passe le souffle qui va l’emporter et participe ainsi de ce qui le ressuscite. Ainsi s’entretient la vie.\nOui\, il y a à louer ce temps non plus cause\, mais signe / marque de notre condition humaine qui nous voit privés de puissance\, rendus à nos pouvoirs et à notre liberté.\nAlain Freixe\, octobre 2024 \nDu lundi au samedi de 14h30 à 18h30\, entrée libre
URL:https://www.galerie-depardieu.com/event/leloge-du-temps-la-galerie-depardieu-expose-cinq-artistes-start/
LOCATION:Galerie Depardieu\, 6 rue du docteur Jacques Guidoni\, Nice\, 06000\, France
CATEGORIES:Agenda,exposition
END:VEVENT
BEGIN:VEVENT
DTSTART;TZID=Europe/Paris:20250117T180000
DTEND;TZID=Europe/Paris:20250117T200000
DTSTAMP:20260424T185945
CREATED:20250106T161219Z
LAST-MODIFIED:20250106T161219Z
UID:4849-1737136800-1737144000@www.galerie-depardieu.com
SUMMARY:Gérard Garouste « Peindre entre les lignes » Conférence par Kiki Baldassari
DESCRIPTION:Vendredi 17 Janvier 2025 à 18h\nGérard Garouste « peindre entre les lignes »\nConférence par Kiki Baldassari \n \nAprès sa venue pour « Jean-Michel Basquiat\, Indocile icône »\, « Caravage\, autoportrait »\, « Frida Kahlo\,  L’enfant et les Sortilèges »\, « Gone with the Wilde\, Tout l’Art d’Oscar »\, « Nicolas de Staël\, Mon art est sur les remparts » etc.\, à la galerie\, Kiki Baldassari\, conférencière assermentée & historienne de l’art nous propose un nouveau panorama artistique et sociétal\, cette fois autour de Gérard Garouste. \nvisuel/ La Méguila d’Esther\, 2005 \nEntrée 10 € – 8 € pour les adhérents / Étudiants : 6 €\nRéservation/billetterie :\nhttps://www.billetweb.fr/gerard-garouste-peindre-entre-les-lignes-conference-par-kiki-baldassari
URL:https://www.galerie-depardieu.com/event/gerard-garouste-peindre-entre-les-lignes-conference-par-kiki-baldassari/
LOCATION:Galerie Depardieu\, 6 rue du docteur Jacques Guidoni\, Nice\, 06000\, France
CATEGORIES:Agenda,Conférence
ORGANIZER;CN="Association ARTEP":MAILTO:artep.association@gmail.com
END:VEVENT
END:VCALENDAR