BEGIN:VCALENDAR
VERSION:2.0
PRODID:-//Galerie Depardieu - ECPv6.15.20//NONSGML v1.0//EN
CALSCALE:GREGORIAN
METHOD:PUBLISH
X-ORIGINAL-URL:https://www.galerie-depardieu.com
X-WR-CALDESC:Évènements pour Galerie Depardieu
REFRESH-INTERVAL;VALUE=DURATION:PT1H
X-Robots-Tag:noindex
X-PUBLISHED-TTL:PT1H
BEGIN:VTIMEZONE
TZID:Europe/Paris
BEGIN:DAYLIGHT
TZOFFSETFROM:+0100
TZOFFSETTO:+0200
TZNAME:CEST
DTSTART:20230326T010000
END:DAYLIGHT
BEGIN:STANDARD
TZOFFSETFROM:+0200
TZOFFSETTO:+0100
TZNAME:CET
DTSTART:20231029T010000
END:STANDARD
BEGIN:DAYLIGHT
TZOFFSETFROM:+0100
TZOFFSETTO:+0200
TZNAME:CEST
DTSTART:20240331T010000
END:DAYLIGHT
BEGIN:STANDARD
TZOFFSETFROM:+0200
TZOFFSETTO:+0100
TZNAME:CET
DTSTART:20241027T010000
END:STANDARD
BEGIN:DAYLIGHT
TZOFFSETFROM:+0100
TZOFFSETTO:+0200
TZNAME:CEST
DTSTART:20250330T010000
END:DAYLIGHT
BEGIN:STANDARD
TZOFFSETFROM:+0200
TZOFFSETTO:+0100
TZNAME:CET
DTSTART:20251026T010000
END:STANDARD
END:VTIMEZONE
BEGIN:VEVENT
DTSTART;TZID=Europe/Paris:20240905T143000
DTEND;TZID=Europe/Paris:20241005T183000
DTSTAMP:20260425T010959
CREATED:20240731T183242Z
LAST-MODIFIED:20240904T142925Z
UID:4721-1725546600-1728153000@www.galerie-depardieu.com
SUMMARY:Daniel Rothbart  -  Plus fugitif que la lumière
DESCRIPTION:Daniel Rothbart – Plus fugitif que la lumière\nVernissage Jeudi 5 septembre 2024 de 16h à 21h\, en présence de l’artiste\nExposition jusqu’au 5 octobre 2024\nEntrée libre \n \nLa galerie Depardieu a le plaisir de vous présenter Plus fugitif que la lumière\, le dernier travail de Daniel Rothbart. Seize collages et une installation cinétique seront exposés. More Fugitive Than Light: Poems of Rome\, Venice\, Paris\, 2016-2017\, le nouveau livre du poète et du critique d’art Richard Milazzo\, avec des collages de Rothbart\, sera également présenté. Plus fugitif que la lumière sera la douzième exposition personnelle de Daniel Rothbart à la Galerie Depardieu.\nRothbart crée des sculptures flottantes pour les mers\, les lacs\, les rivières et les citernes\, animées par le mouvement de l’eau. Ses sculptures pour la sculptures terrestres incluent des formes inspirées de vaisseaux qui font partie intégrante de ses collaborations avec d’autres artistes\, écrivains et poètes. En manipulant des cartes postales trouvées\, des photographies\, et des images fixes de films\, Daniel Rothbart explore l’identité culturelle\, le déplacement\, et la transformation de paysages avec l’arrivée de sculptures dans ses collages.\nLes projets d’atelier de Rothbart incluent RamleAnthropocene\, à la Piscine des Arches / Centre d’art contemporain Ramle CACR\, à Ramle\, en Israël ; Horloges à l’eau\, sur le fleuve Hudson / The Hudson Eye\, à Hudson\, à New York ; Théologies impénétrables\, l’Église Sainte-Élisabeth / Kunstwechsel\, à Aix-la-Chapelle\, en Allemagne ; Air de Venise\, à Venise\, en Italie ; et WATERLINES\, à la Galerie Depardieu\, à Nice\, en France. Il a exposé à la Galleria Nazionale d’Arte Moderna\, à Rome\, en Italie ; le Musée d’art contemporain MoCAB\, à Belgrade\, en Serbie ; Momenta Art et Proteus Gowanus à Brooklyn\, à New York ; à la galerie Andrea Meislin\, Exit Art\, et WhiteBox Contemporary Art Center à New York City.\nIl est l’auteur de trois livres. Jewish Metaphysics as Generative Principle in American Art (1994) explore la relation entre la culture juive et l’abstraction américaine d’après-guerre. The Story of the Phoenix (1999) examine les thèmes fluides de la création\, de la destruction et de la paternité. Seeing Naples: Reports from the Shadow of Vesuvius (2018) est un récit de voyage inspiré des expériences de Rothbart en tant que boursier Fulbright à Naples au début des années 1990. L’œuvre combine un récit personnel avec l’histoire de la ville\, ancienne et moderne\, qui parle des valeurs et de la culture napolitaine.\nRothbart a reçu une bourse du New York State Council on the Arts\, une bourse de la New York Foundation for the Arts et a également été invité à la Résidence des Artistes Herzliya\, à Herzliya\, en Israël en 2023 et à La Napoule Art Foundation\, à Mandelieu-la-Napoule\, en France en 2002. Son travail fait l’objet d’une monographie d’Enrico Pedrini publiée en 2010 par Ulisse e Calipso à Naples\, en Italie.\nLe travail de Rothbart se trouve dans des collections publiques et privées\, notamment dans le Musée d’Art Moderne de New York.\nwww.danielrothbart.org – youtube.com/danielrothbart\nMore Fugitive than Light: Poems of Rome\, Venice\, Paris\, 2016-2017 : English – Français
URL:https://www.galerie-depardieu.com/event/daniel-rothbart-plus-fugitif-que-la-lumiere/
LOCATION:Galerie Depardieu\, 6 rue du docteur Jacques Guidoni\, Nice\, 06000\, France
CATEGORIES:Agenda,exposition
END:VEVENT
BEGIN:VEVENT
DTSTART;TZID=Europe/Paris:20240912T143000
DTEND;TZID=Europe/Paris:20241026T183000
DTSTAMP:20260425T010959
CREATED:20240731T183416Z
LAST-MODIFIED:20240731T183416Z
UID:4724-1726151400-1729967400@www.galerie-depardieu.com
SUMMARY:Jean-Claude Bertrand  -  Résonances harmoniques
DESCRIPTION:Jean-Claude Bertrand – Résonances harmoniques\nVernissage Jeudi 12 Septembre 2024 de 18h à 21h\, en présence de l’artiste\nExposition jusqu’au 26 octobre 2024\nEntrée libre \n \nJean-Claude Bertrand\, né en 1948\, est passionné par toutes sortes de musiques\, musique classique et contemporaine et le jazz sa grande passion. Les émotions qui naissent en lui à l’écoute de la musique tracent un chemin créateur pour explorer les harmonies chromatiques. Serait-il possible de traduire ses émotions en couleurs ? Avec du rouge\, du bleu\, du jaune\, les trois couleurs primaires accompagnées des tonalités du blanc au noir\, Jean-Claude Bertrand se plonge dans la matérialité picturale. Le plaisir immense qu’il ressent est intact à chaque fois. Il trouve en lui la porte de la liberté intérieure\, celle qui ouvre le chemin des possibles.\nAvec la maîtrise d’une main toujours plus sûre de ses eﬀets\, Jean-Claude Bertrand entrelace et superpose les strates multiples d’une partition chromatique délicatement modulée. Les gris-bleu aux opalescences irisées se réchauﬀent d’ocres frottés\, la matité poudreuse des couleurs contraste avec la brillance laquée des écritures gestuelles. Les toiles se voilent de transparences et d’opacité translucide. En un jeu plastique subtil\, elles tissent des modulations émergeant des profondeurs\, là où le cœur de la toile palpite\, vibre\, chuchote. La musicalité de la couleur apparaît\, se dévoilant dans le silence de l’atelier. Jean-Claude Bertrand\, écoutant les couleurs vibrer à son oreille\, peint le monde invisible des modulaPons chromatiques…\nLes œuvres de Jean-Claude Bertrand sont comme un reﬂet de soi\, une image miroir d’une forme verticale qui surgit de la matière colorée. Les couleurs entrent en résonance avec le lecteur-spectateur et lui procurent des sensations et des émotions oubliées lovées au cœur de sa mémoire sensorielle.\nCatherine Koenig – Résonances harmoniques – juillet 2024
URL:https://www.galerie-depardieu.com/event/jean-claude-bertrand-resonances-harmoniques/
LOCATION:Galerie Depardieu\, 6 rue du docteur Jacques Guidoni\, Nice\, 06000\, France
CATEGORIES:Agenda,exposition
END:VEVENT
BEGIN:VEVENT
DTSTART;TZID=Europe/Paris:20240927T201500
DTEND;TZID=Europe/Paris:20240927T220000
DTSTAMP:20260425T010959
CREATED:20240904T143258Z
LAST-MODIFIED:20240904T143258Z
UID:4740-1727468100-1727474400@www.galerie-depardieu.com
SUMMARY:Enfantillages Concert Voix – Piano
DESCRIPTION:Vendredi 27 Septembre 2024 à 20h15\nEnfantillages\nConcert Voix – Piano \nJennifer Pellagaud voix & Juliette Aridon piano \n \n« Enfantillages » est une ode à la jeunesse et aux qualités qu’elle nous évoque : force de vie et de création\, regard émerveillé sur ce qui nous entoure\, imaginaire infini. Ce programme parle aux petits mais éveille également l’enfant tapi en chacun de nous. \nDes pièces d’apparence légère susciteront l’intérêt d’un public divers par la portée poétique\, symbolique et dramatique des textes dont les différents niveaux de lecture sont admirablement mis en musique par les compositeurs de ce programme. Ces derniers ont créé des langages musicaux uniques qui ne manquent pas de nous rappeler leur génie tout en soulignant l’importance du monde de l’enfance. \nDans un quotidien où les actualités nous ramènent souvent au sérieux et à l’inquiétude\, ces musiques sont une échappée bienvenue dans l’humour\, la légèreté\, la poésie et la beauté également présents dans notre monde. \nAu programme :\nMaurice Ravel\, Histoires naturelles\nLeonard Bernstein\, La bonne cuisine\nReynaldo Hahn\, Cinq petites chansons\nJacques Offenbach\, Fables de la Fontaine / Le berger et la mer / Le corbeau et le renard / La laitière et le pot au lait\nManuel Rosenthal\, Chansons de Monsieur Bleu\, La souris d’Angleterre/ Le petit chat est mort / Le vieux chameau du zoo\nFrancis Poulenc\, La courtepaille \nJennifer Pellagaud et Juliette Aridon se rencontrent pendant leurs études respectives à la HEMU Fribourg et Lausanne. Elles se produisent ensemble à de multiples occasions : à l’opéra dans une version piano des Dialogues des carmélites où Jennifer est Sœur Blanche\, et dans de nombreux\nconcerts de musique de chambre dans lesquels elles interprètent Poulenc\, Ravel\, Schubert\,Wolf\, Mahler\, Marx\, Zemlinsky…\nEn février 2018\, elles proposent un programme « Elles esquissent Poulenc » transmis en direct sur la radio suisse RTS dans le cadre de l’émission des « Masters sur les ondes » et en mai de la même année\, elles sont finalistes au concours Mahler à Genève.\nDepuis\, Jennifer et Juliette continuent d’explorer ensemble le répertoire chambriste pour piano et voix où la mélodie française et le lied allemand tiennent une place importante dans leur esthétique\nmusicale. \nEntrée 15 € – adhérent : 12 € / Tarif étudiant 10 €
URL:https://www.galerie-depardieu.com/event/enfantillages-concert-voix-piano/
LOCATION:Galerie Depardieu\, 6 rue du docteur Jacques Guidoni\, Nice\, 06000\, France
CATEGORIES:Agenda,Concert
ORGANIZER;CN="Association ARTEP":MAILTO:artep.association@gmail.com
END:VEVENT
END:VCALENDAR