BEGIN:VCALENDAR
VERSION:2.0
PRODID:-//Galerie Depardieu - ECPv6.15.20//NONSGML v1.0//EN
CALSCALE:GREGORIAN
METHOD:PUBLISH
X-WR-CALNAME:Galerie Depardieu
X-ORIGINAL-URL:https://www.galerie-depardieu.com
X-WR-CALDESC:Évènements pour Galerie Depardieu
REFRESH-INTERVAL;VALUE=DURATION:PT1H
X-Robots-Tag:noindex
X-PUBLISHED-TTL:PT1H
BEGIN:VTIMEZONE
TZID:Europe/Paris
BEGIN:DAYLIGHT
TZOFFSETFROM:+0100
TZOFFSETTO:+0200
TZNAME:CEST
DTSTART:20230326T010000
END:DAYLIGHT
BEGIN:STANDARD
TZOFFSETFROM:+0200
TZOFFSETTO:+0100
TZNAME:CET
DTSTART:20231029T010000
END:STANDARD
BEGIN:DAYLIGHT
TZOFFSETFROM:+0100
TZOFFSETTO:+0200
TZNAME:CEST
DTSTART:20240331T010000
END:DAYLIGHT
BEGIN:STANDARD
TZOFFSETFROM:+0200
TZOFFSETTO:+0100
TZNAME:CET
DTSTART:20241027T010000
END:STANDARD
BEGIN:DAYLIGHT
TZOFFSETFROM:+0100
TZOFFSETTO:+0200
TZNAME:CEST
DTSTART:20250330T010000
END:DAYLIGHT
BEGIN:STANDARD
TZOFFSETFROM:+0200
TZOFFSETTO:+0100
TZNAME:CET
DTSTART:20251026T010000
END:STANDARD
END:VTIMEZONE
BEGIN:VEVENT
DTSTART;TZID=Europe/Paris:20240613T143000
DTEND;TZID=Europe/Paris:20240731T183000
DTSTAMP:20260425T042829
CREATED:20240605T144743Z
LAST-MODIFIED:20240605T144743Z
UID:4667-1718289000-1722450600@www.galerie-depardieu.com
SUMMARY:Exposition Doris Kuert   - Suivez les Muses // Figures mythologiques
DESCRIPTION:Doris Kuert  – Suivez les Muses \nFigures mythologiques \nJeudi 13 juin 2024 de 18h à 21h\nVernissage en présence de l’artiste\nExposition jusqu’à fin juillet 2024\nEntrée libre \n \nFigures mythologiques / Photographie analogique / Émulsion photographique \nLe choix des noms\, en particulier ceux de l’Antiquité grecque\, est voulu par Doris Kuert. Electra\, Artémis\, Méduse et Salomé suscitent en elle certaines associations qui – on a presque envie de dire : chaque jour – ouvrent une nouvelle facette.\nAndreas Jahn \nMes modèles sont des femmes de mon entourage\, des amies ou même l’une de mes filles. Elles sont prêtes à mettre en scène des gestes convenus ou spontanés. Un simple vêtement sert d’accessoire. La combinaison d’un corps féminin et d’un tissu évoque une dignité antique et une grâce éphémère. Cela éveille des associations d’idées – et certaines poses évoquent le nom d’une femme des mythes gréco-romains\, ce qui donne au drame suggestif une véritable apparence. \nLe procédé de l’émulsion photographique permet d’obtenir des effets passionnants à partir d’intentions\, de phénomènes aléatoires\, de traces de travail et prend au sérieux les processus d’une solarisation. Les photos présentées ici sont le résultat heureux du développement\, de l’expérimentation et du fait de se laisser surprendre. Il est parfois arrivé qu’un travail m’échappe littéralement et que l’image s’évapore comme une chimère parce que la gélatine de la plaque offset ou du papier s’écoule.\nDoris Kuert \nDu lundi au samedi de 14h30 à 18h30\nEntrée libre
URL:https://www.galerie-depardieu.com/event/exposition-doris-kuert-suivez-les-muses-figures-mythologiques/
LOCATION:Galerie Depardieu\, 6 rue du docteur Jacques Guidoni\, Nice\, 06000\, France
CATEGORIES:Agenda,exposition,Vernissage
END:VEVENT
BEGIN:VEVENT
DTSTART;TZID=Europe/Paris:20240627T143000
DTEND;TZID=Europe/Paris:20240731T183000
DTSTAMP:20260425T042829
CREATED:20240605T145845Z
LAST-MODIFIED:20240605T150809Z
UID:4678-1719498600-1722450600@www.galerie-depardieu.com
SUMMARY:Elli Chrysidou  -  Fragmented memories in Red
DESCRIPTION:Elli Chrysidou – Fragmented memories in Red\nJeudi 27 juin 2024 de 16h à 21h\nVernissage en présence de l’artiste\nExposition jusqu’à fin juillet 2024\nEntrée libre \n \n« Fragmented Memories in Red » est une œuvre qui explore les complexités de la fragmentation de la mémoire. Cette œuvre d’art entremêle des images traitées tirées de l’histoire de l’art\, créant une tapisserie d’émotions et de souvenirs. La couleur dominante\, le rouge\, palpite à travers l’œuvre\, symbolisant la passion\, l’intensité et l’interconnexion des souvenirs dispersés. Chaque fragment\, délicatement tissé\, invite le spectateur à réfléchir à la nature complexe de la mémoire et à son impact profond sur notre perception du passé. \n« Fragmented Memories in Red » est un voyage visuel qui remet en question les limites de la mémoire et invite à l’introspection sur la fluidité de nos souvenirs. \nDu lundi au samedi de 14h30 à 18h30\nEntrée libre
URL:https://www.galerie-depardieu.com/event/elli-chrysidou-fragmented-memories-in-red/
LOCATION:Galerie Depardieu\, 6 rue du docteur Jacques Guidoni\, Nice\, 06000\, France
CATEGORIES:Agenda,exposition,Vernissage
END:VEVENT
BEGIN:VEVENT
DTSTART;TZID=Europe/Paris:20240712T201500
DTEND;TZID=Europe/Paris:20240712T223000
DTSTAMP:20260425T042829
CREATED:20240608T151743Z
LAST-MODIFIED:20240608T151743Z
UID:4695-1720815300-1720823400@www.galerie-depardieu.com
SUMMARY:Matière noire - Jazz & improvisation
DESCRIPTION:Vendredi 12 Juillet 2024 à 20h15\nMatière noire\nJazz & improvisation \nSandra Rivas : Voix\, Percussions\nDan Roth : Saxophone Soprano\, Piano\nChristophe Meulien : Guitares \n \nLa musique d’inﬂuence jazz de Sandra Rivas\, Dan Roth\, et Christophe Meulien est riche en improvisations. Interprétée en fonction du lieu\, de l’humeur du moment\, il s’en dégage une alchimie sonore qui transporte son auditoire à travers des représentations et des imaginaires variés. \nSandra Rivas est une chanteuse percussioniste\, d’origine Vénézuélienne. Elle vit et travaille en France depuis 2004. Sa voix d’alto fait vibrer les mots et les sons des textes qu’elle écrit ou des chants qu’elle interprète. \nDan Roth\, musicien et plasticien. Il a également étudié le piano classique mais sa passion pour le jazz l’a amené à apprendre le saxophone et la clarinette basse\, instruments dont il tirera une forme\nd’expression singulière. \nMusicien improvisateur\, inﬂuencé par le jazz et le rock\, Christophe Meulien participe à des projets musicaux et pluridisciplinaires\, avec des danseurs\, des poètes\, ou des artistes plasticiens. Il utilise parfois des thèmes\, et des compositions personnelles\, comme prétexte à ses improvisations. \nhttps://soulcircus1.bandcamp.com\nhttps://arnoldcabott.bandcamp.com\nhttps://sandra-rivas-davila.wixsite.com/monsite/latin-jazz \nEntrée 15 € – adhérent : 12 € / Tarif étudiant 10 €\nRéservation/billetterie : https://www.billetweb.fr/matiere-noire-jazz-improvisation
URL:https://www.galerie-depardieu.com/event/matiere-noire-jazz-improvisation/
LOCATION:Galerie Depardieu\, 6 rue du docteur Jacques Guidoni\, Nice\, 06000\, France
CATEGORIES:Agenda,Concert
ORGANIZER;CN="Association ARTEP":MAILTO:artep.association@gmail.com
END:VEVENT
END:VCALENDAR