BEGIN:VCALENDAR
VERSION:2.0
PRODID:-//Galerie Depardieu - ECPv6.15.20//NONSGML v1.0//EN
CALSCALE:GREGORIAN
METHOD:PUBLISH
X-WR-CALNAME:Galerie Depardieu
X-ORIGINAL-URL:https://www.galerie-depardieu.com
X-WR-CALDESC:Évènements pour Galerie Depardieu
REFRESH-INTERVAL;VALUE=DURATION:PT1H
X-Robots-Tag:noindex
X-PUBLISHED-TTL:PT1H
BEGIN:VTIMEZONE
TZID:Europe/Paris
BEGIN:DAYLIGHT
TZOFFSETFROM:+0100
TZOFFSETTO:+0200
TZNAME:CEST
DTSTART:20220327T010000
END:DAYLIGHT
BEGIN:STANDARD
TZOFFSETFROM:+0200
TZOFFSETTO:+0100
TZNAME:CET
DTSTART:20221030T010000
END:STANDARD
BEGIN:DAYLIGHT
TZOFFSETFROM:+0100
TZOFFSETTO:+0200
TZNAME:CEST
DTSTART:20230326T010000
END:DAYLIGHT
BEGIN:STANDARD
TZOFFSETFROM:+0200
TZOFFSETTO:+0100
TZNAME:CET
DTSTART:20231029T010000
END:STANDARD
BEGIN:DAYLIGHT
TZOFFSETFROM:+0100
TZOFFSETTO:+0200
TZNAME:CEST
DTSTART:20240331T010000
END:DAYLIGHT
BEGIN:STANDARD
TZOFFSETFROM:+0200
TZOFFSETTO:+0100
TZNAME:CET
DTSTART:20241027T010000
END:STANDARD
END:VTIMEZONE
BEGIN:VEVENT
DTSTART;TZID=Europe/Paris:20231019T143000
DTEND;TZID=Europe/Paris:20231202T183000
DTSTAMP:20260425T170333
CREATED:20230922T200757Z
LAST-MODIFIED:20230922T200757Z
UID:4389-1697725800-1701541800@www.galerie-depardieu.com
SUMMARY:Exposition Bartist - ÉMOTIONS
DESCRIPTION:Bartist – ÉMOTIONS\nVernissage Jeudi 19 Octobre 2023 de 18h à 21h\nExposition au sous-sol jusqu’au 2 décembre 2023 \nDu lundi au samedi de 14h30 à 18h30\nEntrée libre \n \nUn seul format\, cinq émotions primaires et des dizaines de sentiments. Pas de vitre pour être en prise directe avec la réalité de l’œuvre. Bartist propose un voyage intérieur. Prendre le temps de caresser\, reconnaître ou découvrir nos émotions et sentiments. « Entrez » dans le cadre\, sans filtre\, pour ressentir ce que l’œuvre vous révèle. \nNous somme une vibration\, un mouvement non perpétuel\, un rythme qui se construit par nos émotions. Elles nous conduisent de la lumière du premier jour à l’obscurité du dernier. Les ressentir\, les nommer et les vivre\, voila notre quête\nBartist
URL:https://www.galerie-depardieu.com/event/exposition-bartist-emotions/
LOCATION:Galerie Depardieu\, 6 rue du docteur Jacques Guidoni\, Nice\, 06000\, France
CATEGORIES:Agenda,exposition
END:VEVENT
BEGIN:VEVENT
DTSTART;TZID=Europe/Paris:20231026T143000
DTEND;TZID=Europe/Paris:20231202T183000
DTSTAMP:20260425T170333
CREATED:20230922T201424Z
LAST-MODIFIED:20230922T201424Z
UID:4398-1698330600-1701541800@www.galerie-depardieu.com
SUMMARY:Exposition Émilie Gafner L’inconnu\, l’un connu
DESCRIPTION:Vernissage Jeudi 26 Octobre de 16h à 21h\nÉmilie Gafner\nL’inconnu\, l’un connu\nEn présence de l’artiste.\nExposition jusqu’au 2 décembre 2023 \nDu lundi au samedi de 14h30 à 18h30\nEntrée libre \nEmilie Gafner présente des images exclusivement travaillées avec des jeux de reﬂet et de transparence. Ce sont deux procédés qui lui permettent d’approcher la réalité avec une certaine irréalité\, aﬁn de proposer de voir les choses autrement. C’est une course à capturer l’indéﬁni. \n \nCette sélection représente un état actuel de ses recherches qui s’attachent aux détails urbains mettant en avant également ce que l’on ne voit pas. Dans ce sens\, des phrases accompagnent les images. Ni illustration\, ni titre\, les mots suggèrent des pistes d’interprétation et de ﬁction. Le hors-champ prend ainsi une importance pleine de liberté. \nA travers ces photographies prises dans une dizaine de villes diﬀérentes\, comme Zürich\, Paris\, Nice ou Rome\, les notions d’orientation s’évaporent. Le lieu devient récit en abandonnant son identité géographique. Un récit duquel émane des images et des mots qui nous incitent à basculer dans un interstice poétique où la dimension imaginaire prime. \nL’inconnu fait partie de la ville et y dépose une part de mystère qui fait d’elle une source inﬁnie d’histoires. La silhouette\, souvent fugitive\, anonyme\, pousse à la prendre en ﬁlature\, comme si elle détenait les secrets de l’inconnu. C’est comme si elle le personniﬁait. La traque est sans ﬁn.
URL:https://www.galerie-depardieu.com/event/exposition-emilie-gafner-linconnu-lun-connu/
LOCATION:Galerie Depardieu\, 6 rue du docteur Jacques Guidoni\, Nice\, 06000\, France
CATEGORIES:Agenda,exposition
ORGANIZER;CN="Association ARTEP":MAILTO:artep.association@gmail.com
END:VEVENT
BEGIN:VEVENT
DTSTART;TZID=Europe/Paris:20231118T201500
DTEND;TZID=Europe/Paris:20231118T223000
DTSTAMP:20260425T170333
CREATED:20231026T154612Z
LAST-MODIFIED:20231026T154612Z
UID:4425-1700338500-1700346600@www.galerie-depardieu.com
SUMMARY:René  Sopa - Thierry Ravelli -  Standards de jazz
DESCRIPTION:Samedi 18 Novembre 2023 à 20h15\nRené  Sopa – Thierry Ravelli – Standards de jazz \n \nAccordéoniste de jazz world music René Sopa est issu de l’école Lucien Galliano et a étudié le répertoire traditionnel et classique en obtenant de nombreux prix dans divers concours nationaux.  Durant sa carrière il a  participé à de nombreux Festivals internationaux d’accordéons et de jazz dans de nombreux pays (France\, Russie\, Belgique\, Inde\, Pays-Bas\, Italie\, Turquie\, Portugal\, Canada\, Luxembourg etc etc..).\nAvec plus de 15 albums enregistrés avec de prestigieux musiciens il a collaboré en concerts\navec des artistes internationaux talentueux comme Alexandre Cavaliere\, Stéfan Patry\, Angélo Debarre\, Dorado et Samson Schmitt\, Jean Louis Rassinfosse\, Kamil Erdem\, Adrien Moignard\, Sébastien Giniaux\, Christian Escoudé et de nombreux musiciens de la scène Niçoise.\nIl sera en duo avec Thierry Ravelli également issu de l’école Lucien Galliano.Il a aussi joué dans de nombreux Festivals de jazz et fait parti du groupe New metting. \nLeur répertoire est composé par des musiques de René Sopa et des standards de jazz internationaux teintés d’improvisations et virtuosités. \n \nEntrée 12 € – adhérent : 10 € / Tarif étudiant 10 € – étudiant adhérent 8 €\nRéservation/billetterie :\nhttps://www.billetweb.fr/rene-sopa-thierry-ravelli-standards-de-jazz
URL:https://www.galerie-depardieu.com/event/rene-sopa-thierry-ravelli-standards-de-jazz/
LOCATION:Galerie Depardieu\, 6 rue du docteur Jacques Guidoni\, Nice\, 06000\, France
CATEGORIES:Agenda,Concert
ORGANIZER;CN="Association ARTEP":MAILTO:artep.association@gmail.com
END:VEVENT
END:VCALENDAR