BEGIN:VCALENDAR
VERSION:2.0
PRODID:-//Galerie Depardieu - ECPv6.15.20//NONSGML v1.0//EN
CALSCALE:GREGORIAN
METHOD:PUBLISH
X-ORIGINAL-URL:https://www.galerie-depardieu.com
X-WR-CALDESC:Évènements pour Galerie Depardieu
REFRESH-INTERVAL;VALUE=DURATION:PT1H
X-Robots-Tag:noindex
X-PUBLISHED-TTL:PT1H
BEGIN:VTIMEZONE
TZID:Europe/Paris
BEGIN:DAYLIGHT
TZOFFSETFROM:+0100
TZOFFSETTO:+0200
TZNAME:CEST
DTSTART:20220327T010000
END:DAYLIGHT
BEGIN:STANDARD
TZOFFSETFROM:+0200
TZOFFSETTO:+0100
TZNAME:CET
DTSTART:20221030T010000
END:STANDARD
BEGIN:DAYLIGHT
TZOFFSETFROM:+0100
TZOFFSETTO:+0200
TZNAME:CEST
DTSTART:20230326T010000
END:DAYLIGHT
BEGIN:STANDARD
TZOFFSETFROM:+0200
TZOFFSETTO:+0100
TZNAME:CET
DTSTART:20231029T010000
END:STANDARD
BEGIN:DAYLIGHT
TZOFFSETFROM:+0100
TZOFFSETTO:+0200
TZNAME:CEST
DTSTART:20240331T010000
END:DAYLIGHT
BEGIN:STANDARD
TZOFFSETFROM:+0200
TZOFFSETTO:+0100
TZNAME:CET
DTSTART:20241027T010000
END:STANDARD
END:VTIMEZONE
BEGIN:VEVENT
DTSTART;TZID=Europe/Paris:20230525T143000
DTEND;TZID=Europe/Paris:20230729T183000
DTSTAMP:20260426T063351
CREATED:20230504T154011Z
LAST-MODIFIED:20230504T154011Z
UID:4261-1685025000-1690655400@www.galerie-depardieu.com
SUMMARY:Exposition Blandine Calendrier « Les flaques du soleil »
DESCRIPTION:Blandine Calendrier « Les flaques du soleil »\nVernissage Jeudi 25 Mai 2023 de 18h à 21h\nEn présence de l’artiste.\nExposition au sous-sol jusqu’à fin juillet 2023\nEntrée libre \n \nEtendue sous un arbre\, le feuillage épais filtre les rayons du ciel.\nVoir le monde à travers un prisme.\nTantôt élargi\, tantôt restreint.\nLes yeux grands ouverts\, les yeux plissés.\nA travers un objet déformant\, l’existence agrandie\, exagérée. Et puis\, un certain regard\, la réduire à une trace\, minimale.\nFouiller l’obscure.\nLa bulle\, le trait\, autant de germinations de cette force vibratoire\, pousse dans les plis\, les interstices.\nEt quand cette soif devient inextinguible\, la quête des lueurs s’installe.\nDéfinitivement.\nLes fragments décomposés\, épars\, se croisent\, se rejoignent\, se relient par les fils vivants de l’invisible.\nSans cesse\, se saisir de ces traces et rendre visible la lumière. \nBlandine Calendrier\nFévrier 2023 \nLieu :\nGalerie Depardieu\n6 rue du docteur Jacques Guidoni\n06000 Nice\nTel 0 966 890 274\nwww.galerie-depardieu.com\nDu lundi au samedi de 14h30 à 18h30
URL:https://www.galerie-depardieu.com/event/exposition-blandine-calendrier-les-flaques-du-soleil/
LOCATION:Galerie Depardieu\, 6 rue du docteur Jacques Guidoni\, Nice\, 06000\, France
CATEGORIES:Agenda,exposition
ORGANIZER;CN="Association ARTEP":MAILTO:artep.association@gmail.com
END:VEVENT
BEGIN:VEVENT
DTSTART;TZID=Europe/Paris:20230608T143000
DTEND;TZID=Europe/Paris:20230729T183000
DTSTAMP:20260426T063351
CREATED:20230525T182204Z
LAST-MODIFIED:20230525T182204Z
UID:4283-1686234600-1690655400@www.galerie-depardieu.com
SUMMARY:Exposition N_VR - « Au Coeur de la lumière »
DESCRIPTION:N_VR – « Au Coeur de la lumière »\nVernissage Jeudi 8 Juin 2023 de 16h à 21h\nEn présence de l’artiste.\nExposition jusqu’à fin juillet 2023\nDu lundi au samedi de 14h30 à 18h30\nEntrée libre \n \n« Ce n’est pas la lumière que vous cherchez\, mais ce qu’elle cache »\n(Emmanuel Echivard « Avec l’Ombre »ed Cheyne) \nChercher la lumière\, l’approcher\, l’apprivoiser\, n’est-ce pas la quête de l’humanité depuis ses débuts?\nC’est en tous cas celle de la PHOTO (lumière) GRAPHIE (écriture) …\nRevenir aux fondamentaux de la photographie tout en privilégiant la poésie des images est l’objet de cette recherche (toujours en action) menée par N_VR.\nComment la lumière éteint les couleurs lorsqu’elle se fait aveuglante et comment elle peut parfois cacher ce qu’elle devrait révéler ; c’est la figure de Lucifer\, le porteur de lumière qui séduit grâce à une lumière éblouissante qui masque au lieu d’éclairer\, empêchant chacun de discerner alors qu’on a l’habitude\, dans notre culture\, de se référer à la lumière comme obligatoirement positive\, pourtant ce sont les ombres qui révèlent le mieux la lumière.\nC’est cette opération de transfiguration du monde par la lumière\, qui constitue l’essence même de la photographie\, qu’il s’agit d’approcher au plus près.\nSaisir cet « instant décisif » où la lumière sublime le monde sans l’aveugler est ce qui meut l’artiste. Ce travail sur la lumière prend de l’ampleur au fur et à mesure qu’elle avance et c’est sans doute de la recherche de toute une vie d’artiste qu’il s’agit là.\nRevenir aux sources de la photographie en rassemblant tous les moyens de faire exister la lumière de manière poétique voilà qui peut résumer ce projet. \nUne ébauche en a été exposée à Arles en 2021; mais le travail de recherche continue\, par la photo bien évidemment\, mais aussi à travers une recherche plastique avec quelques pièces réalisées à quatre mains avec Blandine Calendrier artiste contemporaine spécialisée dans le travail sur textile pour l’exposition de juin 2023 à Nice. \nA travers également une résidence de création de 10jours à la Maison Commune d’Ixelles (Bruxelles) où la danse et le chant rejoindront la projection des images de « Solstice : lumières intérieures » en Décembre:\n \nCette recherche s’est également enrichie durant la résidence de 3 mois effectuée par l’artiste en Nouvelle-Calédonie au cours de l’hiver 2022-23. \nPour aboutir à l’exposition « Au cœur de la Lumière » à la galerie Depardieu à Nice (été 2023)\, qui constituera un point d’étape important dans cette recherche sur la lumière\, recherche en action qui continuera tout au long des prochaines années.
URL:https://www.galerie-depardieu.com/event/exposition-n_vr-au-coeur-de-la-lumiere/
LOCATION:Galerie Depardieu\, 6 rue du docteur Jacques Guidoni\, Nice\, 06000\, France
CATEGORIES:Agenda,exposition
END:VEVENT
BEGIN:VEVENT
DTSTART;TZID=Europe/Paris:20230623T193000
DTEND;TZID=Europe/Paris:20230623T223000
DTSTAMP:20260426T063351
CREATED:20230525T182807Z
LAST-MODIFIED:20230525T182807Z
UID:4292-1687548600-1687559400@www.galerie-depardieu.com
SUMMARY:Métèque mais pas que - Hommage à Georges Moustaki - Présentation du livre suivi d'un concert
DESCRIPTION:Vendredi 23 Juin 2023 \nMétèque mais pas que\nHommage à Georges Moustaki\nPrésentation du livre suivi d’un concert \n \nà 19h30 Présentation du livre METEQUE …MAIS PAS QUE ! Par Françoise Miran\nGEORGES MOUSTAKI\, symbole d’une époque et d’une aspiration à la liberté est une légende de la chanson française ! Il nous a abreuvé de notes et d’espoir : son militantisme n’avait besoin ni de parti ni de défilé\, il chantait la fraternité et la joie.\nGrec par son père\, italien par sa mère\, égyptien de naissance\, il adorait la langue française qu’il a merveilleusement servi. Nous retrouvons ici dans ses quarante dernières années\, l’homme unique\, fraternel et universel qu’on appelait JO. \nÀ 20h30 Concert\nAvec Françoise Miran (chant & texte) \, Jean Yves Mestre (guitare) \, René Sopa (accordéon) et Jean-Pierre Babarit (basse) \nUn MOUSTAKI ORIGINAL qui ne se limite pas au METEQUE !\nDes anecdotes inédites !\nOn parcourra la GRECE\, l’EGYPTE mai aussi SETE et…. NICE ! \nFrançoise Miran passe de l’industrie pharmaceutique à celui du show-biz\, côtoyant les plus grands artistes tels que Leo Ferré\, Claude Nougaro\, Georges Moustaki\, IAM ou Téléphone qu’elle produit. Présidente d’une association culturelle\, Les Alizés\, depuis 1980\, elle est à la fois organisatrice et productrice de concerts et de festivals\, agent\, tourneur\, auteur compositeur interprète\, et\, selon les circonstances\, traductrice\, réalisateur et journaliste. \nEntrée payante pour le concert de 10 à 15 €\nRéservation/billetterie :\nhttps://www.billetweb.fr/meteque-mais-pas-que
URL:https://www.galerie-depardieu.com/event/meteque-mais-pas-que-hommage-a-georges-moustaki-presentation-du-livre-suivi-dun-concert/
LOCATION:Galerie Depardieu\, 6 rue du docteur Jacques Guidoni\, Nice\, 06000\, France
CATEGORIES:Agenda,Concert
ORGANIZER;CN="Association ARTEP":MAILTO:artep.association@gmail.com
END:VEVENT
END:VCALENDAR